BEGIN:VCALENDAR
VERSION:2.0
PRODID:-//wp-events-plugin.com//7.2.3.1//EN
TZID:America/Los_Angeles
X-WR-TIMEZONE:America/Los_Angeles
BEGIN:VEVENT
UID:4000@parentingoc.guidoclients.com
DTSTART;TZID=America/Los_Angeles:20250816T093000
DTEND;TZID=America/Los_Angeles:20250816T113000
DTSTAMP:20250618T232151Z
URL:https://parentingoc.guidoclients.com/events/morning-fun-at-fulbright-m
 ontessori-series-book-crafts-and-movement-time-2/
SUMMARY:Morning Fun at Fulbright Montessori Series: Book\, Crafts\, and Mov
 ement Time
DESCRIPTION:Bring your little explorer (ages 1.5 - 5 years old) for a morni
 ng of story magic\, take‑home crafts\, and high‑energy movement that t
 urns the tale into a dance. A quick boost for language\, creativity\, and 
 wiggles—all in one go. In addition\, feel free to chat with our Montesso
 rian School Leader\, Ms Maha\, for easy tips to spark literacy and creativ
 ity at home.\n\nFamilies new to Fulbright Montessori will receive a FREE 
 Zoomars Zoo ticket. RSVP is required and spots are cozy‑small\, so clai
 m yours today and let the adventure begin!\n\nhttps://calendly.com/mbeydou
 n-fulbrightmontessori/story-craft-and-movement-playdate-8-16-25-clone/2025
 -08-16T09:30:00-07:00\n\n&nbsp\;
ATTACH;FMTTYPE=image/jpeg:https://parentingoc.guidoclients.com/wp-content/
 uploads/2025/06/Image-3.jpeg
CATEGORIES:Arts &amp; Crafts,Babies &amp; Toddlers,Education &amp;
 Workshops
LOCATION:Fulbright Montessori Academy\, 20411 James Bay Cir\, Lake Forest\,
  United States
X-APPLE-STRUCTURED-LOCATION;VALUE=URI;X-ADDRESS=20411 James Bay Cir\, Lake 
 Forest\, United States;X-APPLE-RADIUS=100;X-TITLE=Fulbright Montessori Aca
 demy:geo:0,0
END:VEVENT
BEGIN:VTIMEZONE
TZID:America/Los_Angeles
X-LIC-LOCATION:America/Los_Angeles
BEGIN:DAYLIGHT
DTSTART:20250309T030000
TZOFFSETFROM:-0800
TZOFFSETTO:-0700
TZNAME:PDT
END:DAYLIGHT
END:VTIMEZONE
END:VCALENDAR