BEGIN:VCALENDAR
VERSION:2.0
PRODID:-//wp-events-plugin.com//7.2.3.1//EN
TZID:America/Los_Angeles
X-WR-TIMEZONE:America/Los_Angeles
BEGIN:VEVENT
UID:3996@parentingoc.guidoclients.com
DTSTART;TZID=America/Los_Angeles;VALUE=DATE:20250601
DTEND;TZID=America/Los_Angeles;VALUE=DATE:20250701
DTSTAMP:20250602T182746Z
URL:https://parentingoc.guidoclients.com/events/mermaid-cove-at-wild-river
 s-2/
SUMMARY:Mermaid Cove at Wild Rivers
DESCRIPTION:This summer\, the Wild Rivers Waterpark in Irvine welcomes a ne
 w addition: Mermaid Cove - an all-new immersive mermaid makeover and retai
 l experience that brings fantasy to life. Inside a walk-up\, open-air grot
 to\, the Cove offers activities like braiding\, glitter tattoos\, shimmer 
 freckles\, swimmable tails\, glam Kits and photo ops in a giant clamshell 
 throne. June 1 is opening day although the Mermaid Cove will be open whene
 ver the waterpark is.\nwildrivers.com
ATTACH;FMTTYPE=image/jpeg:https://parentingoc.guidoclients.com/wp-content/
 uploads/2025/06/Mermaid-Cove-at-Wild-Rivers_courtesy-Wild-Rivers-192-scale
 d.jpg
CATEGORIES:Amusement Parks,Featured,Outdoors &amp; Animals,Things To Do
LOCATION:Wild Rivers Water Park\, 10000 Great Park Blvd\, Irvine\, CA\, 926
 18\, United States
X-APPLE-STRUCTURED-LOCATION;VALUE=URI;X-ADDRESS=10000 Great Park Blvd\, Irv
 ine\, CA\, 92618\, United States;X-APPLE-RADIUS=100;X-TITLE=Wild Rivers Wa
 ter Park:geo:0,0
END:VEVENT
BEGIN:VTIMEZONE
TZID:America/Los_Angeles
X-LIC-LOCATION:America/Los_Angeles
BEGIN:DAYLIGHT
DTSTART:20250309T030000
TZOFFSETFROM:-0800
TZOFFSETTO:-0700
TZNAME:PDT
END:DAYLIGHT
END:VTIMEZONE
END:VCALENDAR