BEGIN:VCALENDAR
VERSION:2.0
PRODID:-//wp-events-plugin.com//7.2.3.1//EN
TZID:America/Los_Angeles
X-WR-TIMEZONE:America/Los_Angeles
BEGIN:VEVENT
UID:4088@parentingoc.guidoclients.com
DTSTART;TZID=America/Los_Angeles:20250708T110000
DTEND;TZID=America/Los_Angeles:20250730T170000
DTSTAMP:20250715T182357Z
URL:https://parentingoc.guidoclients.com/events/marvelocity-the-art-of-ale
 x-ross-exhibit/
SUMMARY:'Marvelocity: The Art of Alex Ross' Exhibit
DESCRIPTION:Longtime comic book fans and beginners alike will find much to 
 marvel over in this exhibit at the Muzeo. It spotlights the work of the aw
 ard-winning artist Alex Ross\, who has done cover arts for such Marvel tit
 les as Iron Man\, Black Panther\, and Captain America\, along with other c
 omic superheroes. Recommended for ages 7 and up\, this exhibit runs throug
 h August 17. The Muzeo’s hours are 11 am-5 pm Wednesdays-Sundays.  \n\
 nhttps://muzeo.org/exhibition/marvelocity-the-art-of-alex-ross/?exhibition
 _date=2025-06-09\n\n&nbsp\;
ATTACH;FMTTYPE=image/jpeg:https://parentingoc.guidoclients.com/wp-content/
 uploads/2025/07/Marvelocity_courtesy-Muzeo.web_.jpg
CATEGORIES:Museums &amp; Art
LOCATION:Muzeo Museum and Cultural Center\, 241 S. Anaheim Blvd.\, Anaheim\
 , CA\, United States
X-APPLE-STRUCTURED-LOCATION;VALUE=URI;X-ADDRESS=241 S. Anaheim Blvd.\, Anah
 eim\, CA\, United States;X-APPLE-RADIUS=100;X-TITLE=Muzeo Museum and Cultu
 ral Center:geo:0,0
END:VEVENT
BEGIN:VTIMEZONE
TZID:America/Los_Angeles
X-LIC-LOCATION:America/Los_Angeles
BEGIN:DAYLIGHT
DTSTART:20250309T030000
TZOFFSETFROM:-0800
TZOFFSETTO:-0700
TZNAME:PDT
END:DAYLIGHT
END:VTIMEZONE
END:VCALENDAR