BEGIN:VCALENDAR
VERSION:2.0
PRODID:-//wp-events-plugin.com//7.2.3.1//EN
TZID:America/Los_Angeles
X-WR-TIMEZONE:America/Los_Angeles
BEGIN:VEVENT
UID:3920@parentingoc.guidoclients.com
DTSTART;TZID=America/Los_Angeles:20250513T193000
DTEND;TZID=America/Los_Angeles:20250518T210000
DTSTAMP:20250423T172212Z
URL:https://parentingoc.guidoclients.com/events/mamma-mia/
SUMMARY:Mamma Mia!
DESCRIPTION:Mamma Mia! brought a new life to the hit tunes of the Swedish p
 op band\, ABBA. Now\, over 25 years later\, the musical has spawned hit mo
 vies\, but it is still going strong on stage. And it will be visiting the 
 Segerstrom Hall stage for a quick visit this month with performances happe
 ning May 13-18. Go to https://www.scfta.org/events/2025/mamma-mia!/ for sh
 owtimes and tickets. This musical is recommended for ages 10 and older.\n\
 nhttps://www.scfta.org/events/2025/mamma-mia!
ATTACH;FMTTYPE=image/jpeg:https://parentingoc.guidoclients.com/wp-content/
 uploads/2025/04/Y-WvmDeQ.jpg
CATEGORIES:Museums &amp; Art,Music, Theater &amp; Entertainment
LOCATION:600 Town Center Drive\, 600 Town Center Drive\, Costa Mesa\, Unite
 d States
X-APPLE-STRUCTURED-LOCATION;VALUE=URI;X-ADDRESS=600 Town Center Drive\, Cos
 ta Mesa\, United States;X-APPLE-RADIUS=100;X-TITLE=600 Town Center Drive:g
 eo:0,0
END:VEVENT
BEGIN:VTIMEZONE
TZID:America/Los_Angeles
X-LIC-LOCATION:America/Los_Angeles
BEGIN:DAYLIGHT
DTSTART:20250309T030000
TZOFFSETFROM:-0800
TZOFFSETTO:-0700
TZNAME:PDT
END:DAYLIGHT
END:VTIMEZONE
END:VCALENDAR