BEGIN:VCALENDAR
VERSION:2.0
PRODID:-//wp-events-plugin.com//7.2.3.1//EN
TZID:America/Los_Angeles
X-WR-TIMEZONE:America/Los_Angeles
BEGIN:VEVENT
UID:3512@parentingoc.guidoclients.com
DTSTART;TZID=America/Los_Angeles:20250128T160000
DTEND;TZID=America/Los_Angeles:20250128T170000
DTSTAMP:20241218T220640Z
URL:https://parentingoc.guidoclients.com/events/lunar-new-year-celebration
 -6/
SUMMARY:Lunar New Year Celebration 
DESCRIPTION:Newport Beach’s Central Library invites families to join them
  in welcoming the Year of the Snake. Explore the culture and traditions of
  such countries as China\, Korea\, Vietnam\, and the Philippines through c
 rafts projects and other activities while participating in one of the worl
 d’s oldest celebrations. The party takes place January 28 from 4 pm-5 pm
 . No registration is required. Recommended for ages 0-12 and kids must be 
 accompanied by an adult.\nhttps://www.newportbeachlibrary.org/calendar/chi
 ldren-s-calendar/-curm-1/-cury-2025
CATEGORIES:Education &amp; Workshops
LOCATION:Newport Beach Central Library\, 1000 Avocado Avenue\, Newport Beac
 h\, CA\, United States
X-APPLE-STRUCTURED-LOCATION;VALUE=URI;X-ADDRESS=1000 Avocado Avenue\, Newpo
 rt Beach\, CA\, United States;X-APPLE-RADIUS=100;X-TITLE=Newport Beach Cen
 tral Library:geo:0,0
END:VEVENT
BEGIN:VTIMEZONE
TZID:America/Los_Angeles
X-LIC-LOCATION:America/Los_Angeles
BEGIN:STANDARD
DTSTART:20241103T010000
TZOFFSETFROM:-0700
TZOFFSETTO:-0800
TZNAME:PST
END:STANDARD
END:VTIMEZONE
END:VCALENDAR