BEGIN:VCALENDAR
VERSION:2.0
PRODID:-//wp-events-plugin.com//7.2.3.1//EN
TZID:America/Los_Angeles
X-WR-TIMEZONE:America/Los_Angeles
BEGIN:VEVENT
UID:3879@parentingoc.guidoclients.com
DTSTART;TZID=America/Los_Angeles:20250607T100000
DTEND;TZID=America/Los_Angeles:20250608T180000
DTSTAMP:20250529T214457Z
URL:https://parentingoc.guidoclients.com/events/lego-festival-6/
SUMMARY:LEGO Festival
DESCRIPTION:Families can explore five interactive creativity-bolstering pla
 y zones. Activities include displaying your dance floor movies\, meeting g
 aming stars\, rocking out on a Lego\, and participating in Master Builder 
 workshops. Kids will get a special Festival lanyard to track their journey
  through the zones\, The Festival happens on Saturdays-Sundays through Jun
 e 8\, and it is aimed for ages 2-12. Note too that kids (ages 3-12) can ta
 ke a spin at re-opened\, re-imagined Driving School and Jr. Driving School
 .\n\nhttps://www.legoland.com/california/things-to-do/seasonal-events/lego
 -festival/
ATTACH;FMTTYPE=image/jpeg:https://parentingoc.guidoclients.com/wp-content/
 uploads/2025/04/Lego-Fest_courtesy-Legoland_a001.jpg
CATEGORIES:Amusement Parks,Kids
LOCATION:Legoland\, 1 Legoland Drive\, Carlsbad\, CA\, United States
X-APPLE-STRUCTURED-LOCATION;VALUE=URI;X-ADDRESS=1 Legoland Drive\, Carlsbad
 \, CA\, United States;X-APPLE-RADIUS=100;X-TITLE=Legoland:geo:0,0
END:VEVENT
BEGIN:VTIMEZONE
TZID:America/Los_Angeles
X-LIC-LOCATION:America/Los_Angeles
BEGIN:DAYLIGHT
DTSTART:20250309T030000
TZOFFSETFROM:-0800
TZOFFSETTO:-0700
TZNAME:PDT
END:DAYLIGHT
END:VTIMEZONE
END:VCALENDAR