BEGIN:VCALENDAR
VERSION:2.0
PRODID:-//wp-events-plugin.com//7.2.3.1//EN
TZID:America/Los_Angeles
X-WR-TIMEZONE:America/Los_Angeles
BEGIN:VEVENT
UID:2719@parentingoc.guidoclients.com
DTSTART;TZID=America/Los_Angeles:20240809T193000
DTEND;TZID=America/Los_Angeles:20240809T213000
DTSTAMP:20240705T150417Z
URL:https://parentingoc.guidoclients.com/events/lake-forests-monthly-movie
 s-music-events-2/
SUMMARY:Lake Forest’s Monthly Movies & Music Events
DESCRIPTION:Lake Forest’s Sports Park is the spot for some fine\, free su
 mmer entertainment on a monthly basis. The Movies in the Park (7:30 pm-9:3
 0 pm) features The Super Mario Bros. (July 12) and Soul (August 9). The Su
 mmer Concert Series (5:30 pm-7:30 pm) serves up Redneck Rodeo (July 27) an
 d Who’s Zepplin (August 24)\, with August’s event also including a car
  show.\n\nhttps://www.lakeforestca.gov/en/calendar
CATEGORIES:Music, Theater &amp; Entertainment,Outdoors &amp; Animals
LOCATION:Lake Forest’s Sports Park Recreation Center\, 28000 Rancho Parkw
 ay\, Lake Forest\, CA\, United States
X-APPLE-STRUCTURED-LOCATION;VALUE=URI;X-ADDRESS=28000 Rancho Parkway\, Lake
  Forest\, CA\, United States;X-APPLE-RADIUS=100;X-TITLE=Lake Forest’s Sp
 orts Park Recreation Center:geo:0,0
END:VEVENT
BEGIN:VTIMEZONE
TZID:America/Los_Angeles
X-LIC-LOCATION:America/Los_Angeles
BEGIN:DAYLIGHT
DTSTART:20240310T030000
TZOFFSETFROM:-0800
TZOFFSETTO:-0700
TZNAME:PDT
END:DAYLIGHT
END:VTIMEZONE
END:VCALENDAR