BEGIN:VCALENDAR
VERSION:2.0
PRODID:-//wp-events-plugin.com//7.2.3.1//EN
TZID:America/Los_Angeles
X-WR-TIMEZONE:America/Los_Angeles
BEGIN:VEVENT
UID:3362@parentingoc.guidoclients.com
DTSTART;TZID=America/Los_Angeles:20241214T100000
DTEND;TZID=America/Los_Angeles:20241214T130000
DTSTAMP:20241121T185700Z
URL:https://parentingoc.guidoclients.com/events/laguna-niguel-holiday-para
 de-2/
SUMMARY:Laguna Niguel Holiday Parade
DESCRIPTION:"Hometown Holiday" is the quite appropriate theme for this year
 ’s community parade. The seasonal processional will take place on Decemb
 er 14 beginning at 10 am\, and it will go along\nCrown Valley Parkway from
  Nueva Vista to Central Park. Parade participants will include marching ba
 nds\, a variety of local community groups\, and even an appearance by Sant
 a Claus. Arrive early to get a good viewing spot.\nhttps://cityoflagunanig
 uel.org/holidayparade
ATTACH;FMTTYPE=image/jpeg:https://parentingoc.guidoclients.com/wp-content/
 uploads/2024/11/Laguna-Niguel-Holiday-Parade_city-of-Laguna-Niguel_web.jpe
 g
CATEGORIES:Christmas,Music, Theater &amp; Entertainment,Outdoors &amp;
 Animals
LOCATION:Crown Valley Parkway between Nueva Vista and Crown Valley Communit
 y Park\, Crown Valley Parkway between Nueva Vista and Crown Valley Communi
 ty Park\, Laguna Niguel\, CA\, United States
X-APPLE-STRUCTURED-LOCATION;VALUE=URI;X-ADDRESS=Crown Valley Parkway betwee
 n Nueva Vista and Crown Valley Community Park\, Laguna Niguel\, CA\, Unite
 d States;X-APPLE-RADIUS=100;X-TITLE=Crown Valley Parkway between Nueva Vis
 ta and Crown Valley Community Park:geo:0,0
END:VEVENT
BEGIN:VTIMEZONE
TZID:America/Los_Angeles
X-LIC-LOCATION:America/Los_Angeles
BEGIN:STANDARD
DTSTART:20241103T010000
TZOFFSETFROM:-0700
TZOFFSETTO:-0800
TZNAME:PST
END:STANDARD
END:VTIMEZONE
END:VCALENDAR