BEGIN:VCALENDAR
VERSION:2.0
PRODID:-//wp-events-plugin.com//7.2.3.1//EN
TZID:America/Los_Angeles
X-WR-TIMEZONE:America/Los_Angeles
BEGIN:VEVENT
UID:4153@parentingoc.guidoclients.com
DTSTART;TZID=America/Los_Angeles:20251026T153000
DTEND;TZID=America/Los_Angeles:20251026T180000
DTSTAMP:20251003T174244Z
URL:https://parentingoc.guidoclients.com/events/la-palmas-70th-annual-hall
 oween-carnival/
SUMMARY:La Palma’s 70th Annual Halloween Carnival
DESCRIPTION:The city’s annual Halloween party provides a family-oriented 
 alternative to traditional trick-or-treating. Happening in La Palma’s Ce
 ntral Park on October 26 from 3:30 pm-6 pm\, this free event presents carn
 ival games\, treats\, and giveaways. The colorful costume contest comes wi
 th such categories as Scariest\, Funniest\, Best Family/Group\, and Best P
 et. Participants must sign up at the Recreation Booth before the start of 
 the contest. Food and drinks will be available for purchase too.\n\nhttps:
 //www.lapalmaca.gov/Halloween
CATEGORIES:Food &amp; Drink,Free,Halloween,Kids,Sports &amp; Games
LOCATION:La Palma\, 7821 Walker Street\, La Palma\, United States
X-APPLE-STRUCTURED-LOCATION;VALUE=URI;X-ADDRESS=7821 Walker Street\, La Pal
 ma\, United States;X-APPLE-RADIUS=100;X-TITLE=La Palma:geo:0,0
END:VEVENT
BEGIN:VTIMEZONE
TZID:America/Los_Angeles
X-LIC-LOCATION:America/Los_Angeles
BEGIN:DAYLIGHT
DTSTART:20250309T030000
TZOFFSETFROM:-0800
TZOFFSETTO:-0700
TZNAME:PDT
END:DAYLIGHT
END:VTIMEZONE
END:VCALENDAR