BEGIN:VCALENDAR
VERSION:2.0
PRODID:-//wp-events-plugin.com//7.2.3.1//EN
TZID:America/Los_Angeles
X-WR-TIMEZONE:America/Los_Angeles
BEGIN:VEVENT
UID:4179@parentingoc.guidoclients.com
DTSTART;TZID=America/Los_Angeles:20251002T100000
DTEND;TZID=America/Los_Angeles:20251031T180000
DTSTAMP:20251007T213145Z
URL:https://parentingoc.guidoclients.com/events/knotts-spooky-farm-12/
SUMMARY:Knott’s Spooky Farm
DESCRIPTION:The park’s Spooky Farm delivers sweet daytime adventures for 
 youngsters (and their parents). Guests can trick-or-treat around the stree
 ts of Ghost Town\, meet Calico’s creepy critters\, and enjoy Camp Snoopy
  Spooktivities (including games\, music\, and spooky stories!). There’ll
  also be cool productions of Snoopy’s Spooktacular Costume Party and th
 e Halloween Hootenanny along with special Bob Baker Marionettes shows. Spo
 oky Farm happens during the daytime on Thursdays-Sundays from September 25
 -October 31 (plus October 13).\n\nhttps://www.knotts.com/events/spooky-far
 m\n\nhttps://www.knotts.com/daily-tickets
ATTACH;FMTTYPE=image/jpeg:https://parentingoc.guidoclients.com/wp-content/
 uploads/2025/10/Costume-Cavalcade-Family-scaled.jpg
CATEGORIES:Amusement Parks,Featured,Halloween,Kids,Music, Theater &amp;
 Entertainment,Sports &amp; Games,Things To Do
LOCATION:Knott's Berry Farm\, 8039 Beach Blvd.\, Buena Park\, CA\, United S
 tates
X-APPLE-STRUCTURED-LOCATION;VALUE=URI;X-ADDRESS=8039 Beach Blvd.\, Buena Pa
 rk\, CA\, United States;X-APPLE-RADIUS=100;X-TITLE=Knott's Berry Farm:geo:
 0,0
END:VEVENT
BEGIN:VTIMEZONE
TZID:America/Los_Angeles
X-LIC-LOCATION:America/Los_Angeles
BEGIN:DAYLIGHT
DTSTART:20250309T030000
TZOFFSETFROM:-0800
TZOFFSETTO:-0700
TZNAME:PDT
END:DAYLIGHT
END:VTIMEZONE
END:VCALENDAR