BEGIN:VCALENDAR
VERSION:2.0
PRODID:-//wp-events-plugin.com//7.2.3.1//EN
TZID:America/Los_Angeles
X-WR-TIMEZONE:America/Los_Angeles
BEGIN:VEVENT
UID:3622@parentingoc.guidoclients.com
DTSTART;TZID=America/Los_Angeles:20250328T100000
DTEND;TZID=America/Los_Angeles:20250427T220000
DTSTAMP:20250415T202254Z
URL:https://parentingoc.guidoclients.com/events/knotts-boysenberry-festiva
 l-4/
SUMMARY:Knott’s Boysenberry Festival
DESCRIPTION:Boy\, oh\, boy – it’s Boysenberry time at Knott’s again. 
 Celebrating its 10th anniversary\, this sweet fest salutes its past with t
 imeless fun – and tasty treats – from March 28-April 27. New attractio
 ns this year include a special show at the Birdcage Theater and a new pie-
 eating contest to pair with other live entertainment offerings. There will
  be new Boysenberry-based food items along with returning faves\, like the
  boysenberry elote and boysenberry chicken wings. \n\nhttps://www.knotts.c
 om/events/boysenberry-festival\n\n&nbsp\;
ATTACH;FMTTYPE=image/jpeg:https://parentingoc.guidoclients.com/wp-content/
 uploads/2025/02/OlzAeB2A.jpg
CATEGORIES:Amusement Parks,Featured,Food &amp; Drink,Music, Theater &amp;
 Entertainment,Outdoors &amp; Animals,Things To Do
LOCATION:Knott's Berry Farm\, 8039 Beach Blvd.\, Buena Park\, CA\, United S
 tates
X-APPLE-STRUCTURED-LOCATION;VALUE=URI;X-ADDRESS=8039 Beach Blvd.\, Buena Pa
 rk\, CA\, United States;X-APPLE-RADIUS=100;X-TITLE=Knott's Berry Farm:geo:
 0,0
END:VEVENT
BEGIN:VTIMEZONE
TZID:America/Los_Angeles
X-LIC-LOCATION:America/Los_Angeles
BEGIN:DAYLIGHT
DTSTART:20250309T030000
TZOFFSETFROM:-0800
TZOFFSETTO:-0700
TZNAME:PDT
END:DAYLIGHT
END:VTIMEZONE
END:VCALENDAR