BEGIN:VCALENDAR
VERSION:2.0
PRODID:-//wp-events-plugin.com//7.2.3.1//EN
TZID:America/Los_Angeles
X-WR-TIMEZONE:America/Los_Angeles
BEGIN:VEVENT
UID:4108@parentingoc.guidoclients.com
DTSTART;TZID=America/Los_Angeles:20250802T173000
DTEND;TZID=America/Los_Angeles:20250809T193000
DTSTAMP:20250715T193314Z
URL:https://parentingoc.guidoclients.com/events/irvines-august-summer-in-t
 he-city-events/
SUMMARY:Irvine’s August “Summer in the City” Events
DESCRIPTION:Get your August off to a rocking start by heading to Mike Ward 
 Community Park-Woodbridge on August 2\, Your Mom (yes\, that’s the band
 ’s name) will be performing tunes from the 90s (and more!) starting at 5
 :30 pm. On August 9\, DW3 fills the night with old school funk and soul mu
 sic. Meanwhile\, Hicks Canyon Community Park hosts a free screening of Ins
 ide Out 2 on August 8 at 6:30 pm\n\nhttps://cityofirvine.org/news-media/ca
 lendar-of-events/event
ATTACH;FMTTYPE=image/jpeg:https://parentingoc.guidoclients.com/wp-content/
 uploads/2025/07/Summer-In-The-City_courtesy-city-of-Irvine.web-1-scaled.jp
 eg
CATEGORIES:Free,Music, Theater &amp; Entertainment
LOCATION:at Mike Ward Community Park-Woodbridge\, 20 Lake Road\, Irvine \, 
 United States
X-APPLE-STRUCTURED-LOCATION;VALUE=URI;X-ADDRESS=20 Lake Road\, Irvine \, Un
 ited States;X-APPLE-RADIUS=100;X-TITLE=at Mike Ward Community Park-Woodbri
 dge:geo:0,0
END:VEVENT
BEGIN:VTIMEZONE
TZID:America/Los_Angeles
X-LIC-LOCATION:America/Los_Angeles
BEGIN:DAYLIGHT
DTSTART:20250309T030000
TZOFFSETFROM:-0800
TZOFFSETTO:-0700
TZNAME:PDT
END:DAYLIGHT
END:VTIMEZONE
END:VCALENDAR