BEGIN:VCALENDAR
VERSION:2.0
PRODID:-//wp-events-plugin.com//7.2.3.1//EN
TZID:America/Los_Angeles
X-WR-TIMEZONE:America/Los_Angeles
BEGIN:VEVENT
UID:4164@parentingoc.guidoclients.com
DTSTART;TZID=America/Los_Angeles:20251001T080000
DTEND;TZID=America/Los_Angeles:20251031T180000
DTSTAMP:20251003T181647Z
URL:https://parentingoc.guidoclients.com/events/irvine-park-railroads-pump
 kin-patch-16/
SUMMARY:Irvine Park Railroad’s Pumpkin Patch
DESCRIPTION:The Halloween season means plenty of pumpkin picking\, train ri
 des and more holiday amusements. The autumn activities include pumpkin rin
 g toss\, hay maze\, haunted house\, pumpkin decorating\, and hayrides alon
 g with more family fun. By the way\, some activities are free\, while othe
 rs require tickets. The Patch is open through October 31\; weekdays from 1
 0 am-6 pm and weekends 8 am-6 pm. Reservations are required on weekends 
 – register at https://www.irvineparkrailroad.com/events/pumpkin-patch/\n
 \nhttps://www.irvineparkrailroad.com/events/pumpkin-patch/\n\n&nbsp\;
CATEGORIES:Arts &amp; Crafts,Food &amp; Drink,Halloween,Kids,Sports &amp;
 Games
LOCATION:Irvine Park Railroad\, 1 Irvine Park Road\, Orange\, United States
X-APPLE-STRUCTURED-LOCATION;VALUE=URI;X-ADDRESS=1 Irvine Park Road\, Orange
 \, United States;X-APPLE-RADIUS=100;X-TITLE=Irvine Park Railroad:geo:0,0
END:VEVENT
BEGIN:VTIMEZONE
TZID:America/Los_Angeles
X-LIC-LOCATION:America/Los_Angeles
BEGIN:DAYLIGHT
DTSTART:20250309T030000
TZOFFSETFROM:-0800
TZOFFSETTO:-0700
TZNAME:PDT
END:DAYLIGHT
END:VTIMEZONE
END:VCALENDAR