BEGIN:VCALENDAR
VERSION:2.0
PRODID:-//wp-events-plugin.com//7.2.3.1//EN
TZID:America/Los_Angeles
X-WR-TIMEZONE:America/Los_Angeles
BEGIN:VEVENT
UID:3191@parentingoc.guidoclients.com
DTSTART;TZID=America/Los_Angeles:20241129T160000
DTEND;TZID=America/Los_Angeles:20241130T210000
DTSTAMP:20241121T204329Z
URL:https://parentingoc.guidoclients.com/events/irvine-park-railroads-chri
 stmas-train-12/
SUMMARY:Irvine Park Railroad’s Christmas Train
DESCRIPTION:All aboard the Christmas Train! The holiday amusements can be f
 ound at Irvine Park through December 23! Visitors can take a ride to the N
 orth Pole and Santa’s Village\, and enjoy Santa photo ops\, cookie decor
 ating\, and carnival games (such as Blizzard Ball and Rudolph Racers). Mos
 t activities require purchasing tickets. Make online train reservations in
  advance because times sell out. Hours are 4 pm-9 pm weekdays\; 10 am-9 pm
  weekends.  \nhttps://www.irvineparkrailroad.com/events/christmas-train/
ATTACH;FMTTYPE=image/jpeg:https://parentingoc.guidoclients.com/wp-content/
 uploads/2024/10/Irvine-Park-Railroad-Christmas-Train-with-santa_courtesy-I
 rvine-Park-Railroad-1.jpg
CATEGORIES:Arts &amp; Crafts,Christmas,Outdoors &amp; Animals
LOCATION:Irvine Park Railroad\, 1 Irvine Park Road\, Orange\, United States
X-APPLE-STRUCTURED-LOCATION;VALUE=URI;X-ADDRESS=1 Irvine Park Road\, Orange
 \, United States;X-APPLE-RADIUS=100;X-TITLE=Irvine Park Railroad:geo:0,0
END:VEVENT
BEGIN:VTIMEZONE
TZID:America/Los_Angeles
X-LIC-LOCATION:America/Los_Angeles
BEGIN:STANDARD
DTSTART:20241103T010000
TZOFFSETFROM:-0700
TZOFFSETTO:-0800
TZNAME:PST
END:STANDARD
END:VTIMEZONE
END:VCALENDAR