BEGIN:VCALENDAR
VERSION:2.0
PRODID:-//wp-events-plugin.com//7.2.3.1//EN
TZID:America/Los_Angeles
X-WR-TIMEZONE:America/Los_Angeles
BEGIN:VEVENT
UID:1537@parentingoc.guidoclients.com
DTSTART;TZID=America/Los_Angeles:20231101T073000
DTEND;TZID=America/Los_Angeles:20231104T200000
DTSTAMP:20231027T235235Z
URL:https://parentingoc.guidoclients.com/events/irvine-2-11-marine-adoptio
 n-committee-holiday-toy-drive-3/
SUMMARY:Irvine 2/11 Marine Adoption Committee Holiday Toy Drive
DESCRIPTION:In 2007\, the City of Irvine officially “adopted” a marine 
 battalion at Camp Pendleton and since then they have been providing help t
 o the military personnel and their families through projects. like this an
 nual holiday toy drive. From November 1-December 8. Collection box locatio
 ns are the Great Park Visitors Center\, Irvine City Hall lobby\, and the I
 rvine Police Department lobby. More detail available on its website. https
 ://www.cityofirvine.org/play/community-services-department/city-special-ev
 ents. 
CATEGORIES:Charity,Holiday,Outdoors &amp; Animals
LOCATION:Irvine Police Department\, 1 Civic Center Plaza\, 2nd Floor\, Irvi
 ne\, CA\, United States
X-APPLE-STRUCTURED-LOCATION;VALUE=URI;X-ADDRESS=1 Civic Center Plaza\, 2nd 
 Floor\, Irvine\, CA\, United States;X-APPLE-RADIUS=100;X-TITLE=Irvine Poli
 ce Department:geo:0,0
END:VEVENT
BEGIN:VTIMEZONE
TZID:America/Los_Angeles
X-LIC-LOCATION:America/Los_Angeles
BEGIN:DAYLIGHT
DTSTART:20230312T030000
TZOFFSETFROM:-0800
TZOFFSETTO:-0700
TZNAME:PDT
END:DAYLIGHT
END:VTIMEZONE
END:VCALENDAR