BEGIN:VCALENDAR
VERSION:2.0
PRODID:-//wp-events-plugin.com//7.2.3.1//EN
TZID:America/Los_Angeles
X-WR-TIMEZONE:America/Los_Angeles
BEGIN:VEVENT
UID:3642@parentingoc.guidoclients.com
DTSTART;TZID=America/Los_Angeles:20250328T200000
DTEND;TZID=America/Los_Angeles:20250330T153000
DTSTAMP:20250327T174512Z
URL:https://parentingoc.guidoclients.com/events/into-the-woods/
SUMMARY:Into The Woods
DESCRIPTION:Musical Theatre West will take its audiences Into The Woods thi
 s spring via a production of this Stephen Sondheim musical that is populat
 ed with an array of famous fairy tale characters. The award-winning show i
 sn’t geared for youngsters and has a PG-13 rating\, so parental discreti
 on is advised. A preview happens March 28 with regular performances occur 
 March 29-30\, April 3-6\, 11-13 at Long Beach’s Carpenter Center. Get mo
 re info and tickets at https://musical.org/events/into-the-woods/\n\nhttps
 ://musical.org/events/into-the-woods/
ATTACH;FMTTYPE=image/jpeg:https://parentingoc.guidoclients.com/wp-content/
 uploads/2025/02/into-the-woods_courtesy-Musical-Theatre-West.jpg.jpg
CATEGORIES:Music, Theater &amp; Entertainment
LOCATION:Musical Theatre West\, 6200 E Atherton Street\, Long Beach\, CA\, 
 United States
X-APPLE-STRUCTURED-LOCATION;VALUE=URI;X-ADDRESS=6200 E Atherton Street\, Lo
 ng Beach\, CA\, United States;X-APPLE-RADIUS=100;X-TITLE=Musical Theatre W
 est:geo:0,0
END:VEVENT
BEGIN:VTIMEZONE
TZID:America/Los_Angeles
X-LIC-LOCATION:America/Los_Angeles
BEGIN:DAYLIGHT
DTSTART:20250309T030000
TZOFFSETFROM:-0800
TZOFFSETTO:-0700
TZNAME:PDT
END:DAYLIGHT
END:VTIMEZONE
END:VCALENDAR