BEGIN:VCALENDAR
VERSION:2.0
PRODID:-//wp-events-plugin.com//7.2.3.1//EN
TZID:America/Los_Angeles
X-WR-TIMEZONE:America/Los_Angeles
BEGIN:VEVENT
UID:3702@parentingoc.guidoclients.com
DTSTART;TZID=America/Los_Angeles:20250316T090000
DTEND;TZID=America/Los_Angeles:20250316T150000
DTSTAMP:20250306T190011Z
URL:https://parentingoc.guidoclients.com/events/impact-event-cleanup/
SUMMARY:Impact Event: Cleanup
DESCRIPTION:Join the Discovery Cube on March 16 in its effort to make a pos
 itive impact on our planet. This cleanup event\, which takes place from 9 
 am-3 pm\, will focus on the Huntington Beach Wetlands\, where volunteers w
 ill be lending a hand to help on the care and maintenance of this area by 
 cleaning up trash as well as working in the on-site plant nursery. \n\nhtt
 ps://www.discoverycube.org/\n\n&nbsp\;
ATTACH;FMTTYPE=image/jpeg:https://parentingoc.guidoclients.com/wp-content/
 uploads/2025/02/h_O6qFtQ.jpg
CATEGORIES:Charity,Outdoors &amp; Animals
LOCATION:Huntington Beach\, 21900 Pacific Coast Highway\, Huntington Beach\
 , California\, United States
X-APPLE-STRUCTURED-LOCATION;VALUE=URI;X-ADDRESS=21900 Pacific Coast Highway
 \, Huntington Beach\, California\, United States;X-APPLE-RADIUS=100;X-TITL
 E=Huntington Beach:geo:0,0
END:VEVENT
BEGIN:VTIMEZONE
TZID:America/Los_Angeles
X-LIC-LOCATION:America/Los_Angeles
BEGIN:DAYLIGHT
DTSTART:20250309T030000
TZOFFSETFROM:-0800
TZOFFSETTO:-0700
TZNAME:PDT
END:DAYLIGHT
END:VTIMEZONE
END:VCALENDAR