BEGIN:VCALENDAR
VERSION:2.0
PRODID:-//wp-events-plugin.com//7.2.3.1//EN
TZID:America/Los_Angeles
X-WR-TIMEZONE:America/Los_Angeles
BEGIN:VEVENT
UID:4120@parentingoc.guidoclients.com
DTSTART;TZID=America/Los_Angeles:20250815T080000
DTEND;TZID=America/Los_Angeles:20250815T200000
DTSTAMP:20250715T200558Z
URL:https://parentingoc.guidoclients.com/events/huntington-beachs-national
 -night-out-helmet-giveaway/
SUMMARY:Huntington Beach’s National Night Out - Helmet Giveaway
DESCRIPTION:On August 8\, Huntington Beach hosts an Open House and National
  Night Out event at the HBPD and Civic Center Plaza from 5 pm-7 pm. This f
 ree event comes well-stocked with fun family events\, like touch-a-truck\,
  police demonstrations\, informational booths\, raffles\, and food for pur
 chase. Then on August 16\, the HBPD has a free bike helmet giveaway (while
  supplies last) from 8 am-8 pm. \n\nhttps://www.huntingtonbeachca.gov/cal
 endar.php?view=day&amp\;month=08&amp\;day=08&amp\;year=2025&amp\;calendar=
 &amp\;id=347
CATEGORIES:Education &amp; Workshops,Food &amp; Drink,Free,Sports &amp;
 Games
LOCATION:Huntington Beach Police Department\, 2000 Main Street  \, Huntingt
 on Beach \, United States
X-APPLE-STRUCTURED-LOCATION;VALUE=URI;X-ADDRESS=2000 Main Street  \, Huntin
 gton Beach \, United States;X-APPLE-RADIUS=100;X-TITLE=Huntington Beach Po
 lice Department:geo:0,0
END:VEVENT
BEGIN:VTIMEZONE
TZID:America/Los_Angeles
X-LIC-LOCATION:America/Los_Angeles
BEGIN:DAYLIGHT
DTSTART:20250309T030000
TZOFFSETFROM:-0800
TZOFFSETTO:-0700
TZNAME:PDT
END:DAYLIGHT
END:VTIMEZONE
END:VCALENDAR