BEGIN:VCALENDAR
VERSION:2.0
PRODID:-//wp-events-plugin.com//7.2.3.1//EN
TZID:America/Los_Angeles
X-WR-TIMEZONE:America/Los_Angeles
BEGIN:VEVENT
UID:4177@parentingoc.guidoclients.com
DTSTART;TZID=America/Los_Angeles:20251018T110000
DTEND;TZID=America/Los_Angeles:20251018T150000
DTSTAMP:20251003T185154Z
URL:https://parentingoc.guidoclients.com/events/huntington-beachs-fallowee
 n/
SUMMARY:Huntington Beach’s Falloween
DESCRIPTION:The Thomas Ridley Bandstand in Huntington Beach’s Central Par
 k is the spot for the city’s Falloween festivities. Taking place October
  18 (11 am-3 pm)\, the day features free trick-or-treating (with local bus
 inesses) and stage entertainment. Additionally\, there is a Fun Zone that
 ’s home to game &amp\; craft booths\, bounce houses and food trucks. Fun
  Zone Wristbands can be pre-purchased at https://hbsands.org/. And you can
  call 714-960-8884 for more details.\n\nhttps://www.huntingtonbeachca.gov/
 calendar.php?view=day&amp\;month=10&amp\;day=18&amp\;year=2025&amp\;calend
 ar=&amp\;id=408\n\n&nbsp\;
CATEGORIES:Arts &amp; Crafts,Food &amp; Drink,Free,Halloween,Kids,Music,
 Theater &amp; Entertainment,Sports &amp; Games
LOCATION:Huntington Beach's Central Park\, Goldenwest St &amp\; Talbert Ave
 \, Huntington Beach\, CA 92648\, 92648\, United States
X-APPLE-STRUCTURED-LOCATION;VALUE=URI;X-ADDRESS=Goldenwest St & Talbert Ave
 \, Huntington Beach\, CA 92648\, 92648\, United States;X-APPLE-RADIUS=100;
 X-TITLE=Huntington Beach's Central Park:geo:0,0
END:VEVENT
BEGIN:VTIMEZONE
TZID:America/Los_Angeles
X-LIC-LOCATION:America/Los_Angeles
BEGIN:DAYLIGHT
DTSTART:20250309T030000
TZOFFSETFROM:-0800
TZOFFSETTO:-0700
TZNAME:PDT
END:DAYLIGHT
END:VTIMEZONE
END:VCALENDAR