BEGIN:VCALENDAR
VERSION:2.0
PRODID:-//wp-events-plugin.com//7.2.3.1//EN
TZID:America/Los_Angeles
X-WR-TIMEZONE:America/Los_Angeles
BEGIN:VEVENT
UID:3195@parentingoc.guidoclients.com
DTSTART;TZID=America/Los_Angeles:20241129T080000
DTEND;TZID=America/Los_Angeles:20241130T180000
DTSTAMP:20241017T203854Z
URL:https://parentingoc.guidoclients.com/events/holidays-at-universal-stud
 ios-hollywood/
SUMMARY:Holidays at Universal Studios Hollywood
DESCRIPTION:https://www.universalstudioshollywood.com/web/en/us\nThere’s 
 something old and something new at Universal Studios Hollywood this holida
 y season (November 29-January 6). Returning will be two family favorites: 
 Grinchmas and Christmas in The Wizarding World of Harry Potter. But there 
 will be some new seasonal touches at Super Nintendo World\, including a tr
 ee topped with a Super Star topper\, a decked-out Mushroom Kingdom\, and t
 wo Super Mario-esque snowmen to greet guests for a memorable photo op.\nht
 tps://www.universalstudioshollywood.com/web/en/us/calendar-and-hours#early
 accesshours&amp\;hash-id-universalstudioshollywoodcalendartab-tabheader
ATTACH;FMTTYPE=image/jpeg:https://parentingoc.guidoclients.com/wp-content/
 uploads/2024/10/Universal-Studios-Hollywoods-Holiday-Attractions_super-nin
 tendo-world_courtesy-Universal-Studios-Hollywood.jpg
CATEGORIES:Amusement Parks,Christmas
LOCATION:Universal Studios Hollywood\, 100 Universal City Plaza\, Universal
  City\, CA\, United States
X-APPLE-STRUCTURED-LOCATION;VALUE=URI;X-ADDRESS=100 Universal City Plaza\, 
 Universal City\, CA\, United States;X-APPLE-RADIUS=100;X-TITLE=Universal S
 tudios Hollywood:geo:0,0
END:VEVENT
BEGIN:VTIMEZONE
TZID:America/Los_Angeles
X-LIC-LOCATION:America/Los_Angeles
BEGIN:STANDARD
DTSTART:20241103T010000
TZOFFSETFROM:-0700
TZOFFSETTO:-0800
TZNAME:PST
END:STANDARD
END:VTIMEZONE
END:VCALENDAR