BEGIN:VCALENDAR
VERSION:2.0
PRODID:-//wp-events-plugin.com//7.2.3.1//EN
TZID:America/Los_Angeles
X-WR-TIMEZONE:America/Los_Angeles
BEGIN:VEVENT
UID:3190@parentingoc.guidoclients.com
DTSTART;TZID=America/Los_Angeles:20241201T080000
DTEND;TZID=America/Los_Angeles:20241231T000000
DTSTAMP:20241211T220904Z
URL:https://parentingoc.guidoclients.com/events/holidays-at-the-disneyland
 -resort-3/
SUMMARY:Holidays At The Disneyland Resort
DESCRIPTION:\nThe holiday merriment at the Happiest Place On Earth comes in
  all types and sizes through January 6. In Disneyland\, guests can experie
 nce the holiday version of “it’s a small world”\, meet Santa Claus a
 nd select Disney characters at the Fantasyland Theatre. California Adventu
 re presents the marvelous\, multicultural Disney Festival of Holidays\, fe
 aturing the Disney ¡Viva Navidad! street party. Downtown Disney\, meanwhi
 le\, holds the all-new Chip and Dale’s Ornament Trail pursuit (through J
 anuary 1).\nhttps://disneyland.disney.go.com/events-tours/holidays-at-the-
 disneyland-resort/
ATTACH;FMTTYPE=image/jpeg:https://parentingoc.guidoclients.com/wp-content/
 uploads/2024/10/Holidays-At-The-Disneyland-Resorts_courtesy-Disneyland-Res
 orts-RH_3-2.jpg
CATEGORIES:Amusement Parks,Christmas,Music, Theater &amp; Entertainment
LOCATION:Disneyland Resort\, 1313 Disneyland Dr\, Anaheim\, United States
X-APPLE-STRUCTURED-LOCATION;VALUE=URI;X-ADDRESS=1313 Disneyland Dr\, Anahei
 m\, United States;X-APPLE-RADIUS=100;X-TITLE=Disneyland Resort:geo:0,0
END:VEVENT
BEGIN:VTIMEZONE
TZID:America/Los_Angeles
X-LIC-LOCATION:America/Los_Angeles
BEGIN:STANDARD
DTSTART:20241103T010000
TZOFFSETFROM:-0700
TZOFFSETTO:-0800
TZNAME:PST
END:STANDARD
END:VTIMEZONE
END:VCALENDAR