BEGIN:VCALENDAR
VERSION:2.0
PRODID:-//wp-events-plugin.com//7.2.3.1//EN
TZID:America/Los_Angeles
X-WR-TIMEZONE:America/Los_Angeles
BEGIN:VEVENT
UID:3389@parentingoc.guidoclients.com
DTSTART;TZID=America/Los_Angeles:20241213T170000
DTEND;TZID=America/Los_Angeles:20241215T210000
DTSTAMP:20241121T210100Z
URL:https://parentingoc.guidoclients.com/events/holiday-time-at-heritage-h
 ill-2/
SUMMARY:Holiday Time At Heritage Hill
DESCRIPTION:For the 38th year\, the Heritage Hill Historical Park invites v
 isitors to take a Candlelight Walk around the grounds December 6-8\, while
  listening to live music from carolers and brass bands. This holiday gathe
 ring also presents holiday crafts for kids\, a Thumbelina puppet show and 
 a chance to meet Santa Claus. December 13-15 offers more memories with the
  return of the picturesque Holiday Lights installation. Hours for both fre
 e events are 5 pm-9 pm. \nhttp://www.ocparks.com/heritagehill/
ATTACH;FMTTYPE=image/jpeg:https://parentingoc.guidoclients.com/wp-content/
 uploads/2024/11/Holiday-Time-At-Heritage-Hill_courtesy-Heritage-Hill-Histo
 rical-Park.jpg
CATEGORIES:Arts &amp; Crafts,Christmas,Music, Theater &amp;
 Entertainment,Outdoors &amp; Animals
LOCATION:Heritage Hill Historical Park\, 25151 Serrano Road\, Lake Forest\,
  CA\, United States
X-APPLE-STRUCTURED-LOCATION;VALUE=URI;X-ADDRESS=25151 Serrano Road\, Lake F
 orest\, CA\, United States;X-APPLE-RADIUS=100;X-TITLE=Heritage Hill Histor
 ical Park:geo:0,0
END:VEVENT
BEGIN:VTIMEZONE
TZID:America/Los_Angeles
X-LIC-LOCATION:America/Los_Angeles
BEGIN:STANDARD
DTSTART:20241103T010000
TZOFFSETFROM:-0700
TZOFFSETTO:-0800
TZNAME:PST
END:STANDARD
END:VTIMEZONE
END:VCALENDAR