BEGIN:VCALENDAR
VERSION:2.0
PRODID:-//wp-events-plugin.com//7.2.3.1//EN
TZID:America/Los_Angeles
X-WR-TIMEZONE:America/Los_Angeles
BEGIN:VEVENT
UID:3938@parentingoc.guidoclients.com
DTSTART;TZID=America/Los_Angeles:20250502T150000
DTEND;TZID=America/Los_Angeles:20250504T120000
DTSTAMP:20250423T184244Z
URL:https://parentingoc.guidoclients.com/events/hoag-oc-marathon/
SUMMARY:Hoag OC Marathon
DESCRIPTION:The Marathon festival starts on May 2 with the OC Lifestyle and
  Fitness Expo at the OC Fairgrounds from 3 pm-7 pm (and 10 am-5 pm May 3).
  Saturday also holds the Kids Run The OC Event (8 am-12 pm)\, the 5K (5:30
  pm-6:30 pm) and the Celebrate OC Expo (2 pm-7 pm). Sunday presents the Ma
 rathon (5:30 am) and Half Marathon (6:30 am)\, with the Finish Line Party 
 running until 12 pm. Register at https://runsignup.com/Race/Register/?race
 Id=133058/. 
ATTACH;FMTTYPE=image/jpeg:https://parentingoc.guidoclients.com/wp-content/
 uploads/2025/04/BuP2Armg.jpg
CATEGORIES:Outdoors &amp; Animals,Sports &amp; Games
LOCATION:88 Fair Dr.\, 88 Fair Dr.\, Costa Mesa\, United States
X-APPLE-STRUCTURED-LOCATION;VALUE=URI;X-ADDRESS=88 Fair Dr.\, Costa Mesa\, 
 United States;X-APPLE-RADIUS=100;X-TITLE=88 Fair Dr.:geo:0,0
END:VEVENT
BEGIN:VTIMEZONE
TZID:America/Los_Angeles
X-LIC-LOCATION:America/Los_Angeles
BEGIN:DAYLIGHT
DTSTART:20250309T030000
TZOFFSETFROM:-0800
TZOFFSETTO:-0700
TZNAME:PDT
END:DAYLIGHT
END:VTIMEZONE
END:VCALENDAR