BEGIN:VCALENDAR
VERSION:2.0
PRODID:-//wp-events-plugin.com//7.2.3.1//EN
TZID:America/Los_Angeles
X-WR-TIMEZONE:America/Los_Angeles
BEGIN:VEVENT
UID:4159@parentingoc.guidoclients.com
DTSTART;TZID=America/Los_Angeles:20251017T163000
DTEND;TZID=America/Los_Angeles:20251019T210000
DTSTAMP:20251003T180113Z
URL:https://parentingoc.guidoclients.com/events/heritage-hills-fall-o-ween
 -2/
SUMMARY:Heritage Hill’s Fall-O-Ween 
DESCRIPTION:For the fifth year\, Heritage Hill Historical Park will be all 
 decked out for Halloween. So come and check out all the fall-themed and Ha
 lloween-inspired photo opps. You can explore a straw maze and try a scaven
 ger hunt for a reward of some “ghoulish goodies” (while supplies last)
 . Fall-O-Ween falls on October 10-12 &amp\; 17-19 from 4:30 pm-8:30 pm. Co
 stumes are encouraged\, and pets are welcome on leashes no longer than 6 f
 eet.\n\nhttps://www.ocparks.com/events/fall-o-ween\n\n 
CATEGORIES:Halloween,Kids,Outdoors &amp; Animals
LOCATION:Heritage Hill Historical Park\, 25151 Serrano Road\, Lake Forest\,
  CA\, United States
X-APPLE-STRUCTURED-LOCATION;VALUE=URI;X-ADDRESS=25151 Serrano Road\, Lake F
 orest\, CA\, United States;X-APPLE-RADIUS=100;X-TITLE=Heritage Hill Histor
 ical Park:geo:0,0
END:VEVENT
BEGIN:VTIMEZONE
TZID:America/Los_Angeles
X-LIC-LOCATION:America/Los_Angeles
BEGIN:DAYLIGHT
DTSTART:20250309T030000
TZOFFSETFROM:-0800
TZOFFSETTO:-0700
TZNAME:PDT
END:DAYLIGHT
END:VTIMEZONE
END:VCALENDAR