BEGIN:VCALENDAR
VERSION:2.0
PRODID:-//wp-events-plugin.com//7.2.3.1//EN
TZID:America/Los_Angeles
X-WR-TIMEZONE:America/Los_Angeles
BEGIN:VEVENT
UID:4170@parentingoc.guidoclients.com
DTSTART;TZID=America/Los_Angeles:20251025T100000
DTEND;TZID=America/Los_Angeles:20251025T160000
DTSTAMP:20251003T182936Z
URL:https://parentingoc.guidoclients.com/events/halloween-zoo-tacular-2/
SUMMARY:Halloween Zoo-tacular 
DESCRIPTION:What makes the OC Zoo into something Zoo-tacular? It’s when k
 ids (12 and younger) can go trick-or-treating and go on a scavenger hunt f
 or prizes (both are “while supplies last”). They can do “spooky” c
 raft projects too\, Plus\, guests can also watch the zoo animals receive t
 reat-filled pumpkins throughout the day. This Halloween party occurs on Oc
 tober 25 from 10 am-4 pm. Reservations are not needed. \n\nhttps://www.oc
 parks.com/events/halloween-zoo-tacular-oc-zoo-0
CATEGORIES:Arts &amp; Crafts,Halloween,Kids,Sports &amp; Games
LOCATION:Irvine Park Railroad\, 1 Irvine Park Road\, Orange\, United States
X-APPLE-STRUCTURED-LOCATION;VALUE=URI;X-ADDRESS=1 Irvine Park Road\, Orange
 \, United States;X-APPLE-RADIUS=100;X-TITLE=Irvine Park Railroad:geo:0,0
END:VEVENT
BEGIN:VTIMEZONE
TZID:America/Los_Angeles
X-LIC-LOCATION:America/Los_Angeles
BEGIN:DAYLIGHT
DTSTART:20250309T030000
TZOFFSETFROM:-0800
TZOFFSETTO:-0700
TZNAME:PDT
END:DAYLIGHT
END:VTIMEZONE
END:VCALENDAR