BEGIN:VCALENDAR
VERSION:2.0
PRODID:-//wp-events-plugin.com//7.2.3.1//EN
TZID:America/Los_Angeles
X-WR-TIMEZONE:America/Los_Angeles
BEGIN:VEVENT
UID:4133@parentingoc.guidoclients.com
DTSTART;TZID=America/Los_Angeles;VALUE=DATE:20251001
DTEND;TZID=America/Los_Angeles;VALUE=DATE:20251101
DTSTAMP:20251007T185331Z
URL:https://parentingoc.guidoclients.com/events/halloween-time-at-disneyla
 nd-8/
SUMMARY:Halloween Time at Disneyland
DESCRIPTION:The Disneyland Resorts offer over two months of Halloween magic
 . From August 22-October 31\, the parks deliver seasonal activities day an
 d night. Many attractions are reimagined for the holiday (like Mater’s G
 raveyard JamBOOree and Haunted Mansion Holiday décor) while there are spe
 cial events too\, like “Mickey’s Trick and Treat” show\, the “Hall
 oween Screams” spectacular\, and Pluto’s Pumpkin Pursuit. Plaza de la 
 Familia festivities\, by the way\, remain in California Adventure through 
 November 2. \n\nhttps://disneyland.disney.go.com/events-tours/halloween-t
 ime-at-the-disneyland-resort/
ATTACH;FMTTYPE=image/jpeg:https://parentingoc.guidoclients.com/wp-content/
 uploads/2025/07/Halloween-Time-at-Disneyland_courtesy-Disneyland-Resorts.w
 eb_.1.jpeg
CATEGORIES:Amusement Parks,Featured,Food &amp; Drink,Halloween,Kids,Music,
 Theater &amp; Entertainment,Things To Do
LOCATION:Disneyland Resort\, 1313 Disneyland Dr\, Anaheim\, United States
X-APPLE-STRUCTURED-LOCATION;VALUE=URI;X-ADDRESS=1313 Disneyland Dr\, Anahei
 m\, United States;X-APPLE-RADIUS=100;X-TITLE=Disneyland Resort:geo:0,0
END:VEVENT
BEGIN:VTIMEZONE
TZID:America/Los_Angeles
X-LIC-LOCATION:America/Los_Angeles
BEGIN:DAYLIGHT
DTSTART:20250309T030000
TZOFFSETFROM:-0800
TZOFFSETTO:-0700
TZNAME:PDT
END:DAYLIGHT
END:VTIMEZONE
END:VCALENDAR