BEGIN:VCALENDAR
VERSION:2.0
PRODID:-//wp-events-plugin.com//7.2.3.1//EN
TZID:America/Los_Angeles
X-WR-TIMEZONE:America/Los_Angeles
BEGIN:VEVENT
UID:4178@parentingoc.guidoclients.com
DTSTART;TZID=America/Los_Angeles:20251031T140000
DTEND;TZID=America/Los_Angeles:20251031T170000
DTSTAMP:20251003T185346Z
URL:https://parentingoc.guidoclients.com/events/halloween-howl/
SUMMARY:Halloween Howl
DESCRIPTION:Spend Halloween in Tustin as the Columbus Recreation Center pla
 ys host to a big holiday party on the 31st from 2 pm-5 pm. Families are in
 vited to join in the afternoon merriment that comes complete with games\, 
 candy\, a costume contest\, bounce houses\, a petting zoo\, food trucks an
 d more fun. What more can you ask for? Well\, it’s free and there will b
 e pumpkins too! \n\nhttps://www.tustinca.org/1181/Halloween-Howl
CATEGORIES:Food &amp; Drink,Free,Halloween,Kids,Outdoors &amp;
 Animals,Sports &amp; Games
LOCATION:Columbus Tustin Recreation Center\, 17522 Beneta Way\, Tustin\, CA
 \, United States
X-APPLE-STRUCTURED-LOCATION;VALUE=URI;X-ADDRESS=17522 Beneta Way\, Tustin\,
  CA\, United States;X-APPLE-RADIUS=100;X-TITLE=Columbus Tustin Recreation 
 Center:geo:0,0
END:VEVENT
BEGIN:VTIMEZONE
TZID:America/Los_Angeles
X-LIC-LOCATION:America/Los_Angeles
BEGIN:DAYLIGHT
DTSTART:20250309T030000
TZOFFSETFROM:-0800
TZOFFSETTO:-0700
TZNAME:PDT
END:DAYLIGHT
END:VTIMEZONE
END:VCALENDAR