BEGIN:VCALENDAR
VERSION:2.0
PRODID:-//wp-events-plugin.com//7.2.3.1//EN
TZID:America/Los_Angeles
X-WR-TIMEZONE:America/Los_Angeles
BEGIN:VEVENT
UID:4117@parentingoc.guidoclients.com
DTSTART;TZID=America/Los_Angeles:20250805T170000
DTEND;TZID=America/Los_Angeles:20250805T200000
DTSTAMP:20250715T195853Z
URL:https://parentingoc.guidoclients.com/events/garden-grove-2025-national
 -night-out/
SUMMARY:Garden Grove 2025 National Night Out
DESCRIPTION:The Garden Grove Police Department hosts an evening for the com
 munity to get together to enjoy some family fun\, raffle prizes\, food tru
 cks\, and local resources. There will also be police demonstrations (like 
 K-9 activities and vehicles on display). The event will take place on Augu
 st 5 at the city’s Public Service Building/Police Station (11301 Acacia 
 Parkway) from 5 pm-8 pm. Email crimeprevention@ggcity.org for more info. 
 \n\nhttps://ggcity.org/events/national-night-out-2025-garden-grove-police-
 department
CATEGORIES:Education &amp; Workshops,Food &amp; Drink,Sports &amp; Games
LOCATION:Public Safety Building\, 11301 Acacia Pkwy\, Garden Grove\, United
  States
X-APPLE-STRUCTURED-LOCATION;VALUE=URI;X-ADDRESS=11301 Acacia Pkwy\, Garden 
 Grove\, United States;X-APPLE-RADIUS=100;X-TITLE=Public Safety Building:ge
 o:0,0
END:VEVENT
BEGIN:VTIMEZONE
TZID:America/Los_Angeles
X-LIC-LOCATION:America/Los_Angeles
BEGIN:DAYLIGHT
DTSTART:20250309T030000
TZOFFSETFROM:-0800
TZOFFSETTO:-0700
TZNAME:PDT
END:DAYLIGHT
END:VTIMEZONE
END:VCALENDAR