BEGIN:VCALENDAR
VERSION:2.0
PRODID:-//wp-events-plugin.com//7.2.3.1//EN
TZID:America/Los_Angeles
X-WR-TIMEZONE:America/Los_Angeles
BEGIN:VEVENT
UID:3981@parentingoc.guidoclients.com
DTSTART;TZID=America/Los_Angeles:20250601T110000
DTEND;TZID=America/Los_Angeles:20250601T120000
DTSTAMP:20250529T213202Z
URL:https://parentingoc.guidoclients.com/events/free-family-concert-songs-
 stories-of-hope/
SUMMARY:Free Family Concert: Songs & Stories Of Hope
DESCRIPTION:The Soka Performing Arts Center has partnered with the Philharm
 onic Society of Orange County for this special family-geared performance. 
 Happening June 1 at 11 am\, this concert features the Klezmer rock band Mo
 stly Kosher in a spirited musical program that spotlights stories of resil
 ience\, hope\, and celebration. Hands-on lobby activities start at 10 am\,
  by the way. Tickets for this free show can be secured at https://fundrais
 e.givesmart.com/form/jZV-eg?vid=1jh1ga\n\nhttps://www.soka.edu/soka-perfor
 ming-arts-center/calendar-events/free-family-concert-songs-stories-hope
LOCATION:1 University Drive\, 1 University Drive\, Aliso Viejo\, United Sta
 tes
X-APPLE-STRUCTURED-LOCATION;VALUE=URI;X-ADDRESS=1 University Drive\, Aliso 
 Viejo\, United States;X-APPLE-RADIUS=100;X-TITLE=1 University Drive:geo:0,
 0
END:VEVENT
BEGIN:VTIMEZONE
TZID:America/Los_Angeles
X-LIC-LOCATION:America/Los_Angeles
BEGIN:DAYLIGHT
DTSTART:20250309T030000
TZOFFSETFROM:-0800
TZOFFSETTO:-0700
TZNAME:PDT
END:DAYLIGHT
END:VTIMEZONE
END:VCALENDAR