BEGIN:VCALENDAR
VERSION:2.0
PRODID:-//wp-events-plugin.com//7.2.3.1//EN
TZID:America/Los_Angeles
X-WR-TIMEZONE:America/Los_Angeles
BEGIN:VEVENT
UID:4106@parentingoc.guidoclients.com
DTSTART;TZID=America/Los_Angeles:20250803T173000
DTEND;TZID=America/Los_Angeles:20250817T193000
DTSTAMP:20250715T192829Z
URL:https://parentingoc.guidoclients.com/events/free-concerts-in-hurless-b
 arton-park/
SUMMARY:Free Concerts In Hurless Barton Park
DESCRIPTION:Yorba Linda presents a trio of Sunday evening concerts in Augus
 t. You can get funky with the Blue Breeze Band on August 3 and experience 
 Coldplay USA on August 10. The final concert in this summer series occurs 
 on August 17 and it will feature classic doo-wop tunes from the Tokens. Th
 e concerts run from 5:30 pm-7:30 pm.  \n\nhttps://www.yorbalindaca.gov/4
 04/Upcoming-Family-Fun-Special-Events\n\n&nbsp\;
CATEGORIES:Food &amp; Drink,Free,Music, Theater &amp;
 Entertainment,Outdoors &amp; Animals
LOCATION:Hurless Barton Park\, 4601 Casa Loma Avenue\, Yorba Linda\, United
  States
X-APPLE-STRUCTURED-LOCATION;VALUE=URI;X-ADDRESS=4601 Casa Loma Avenue\, Yor
 ba Linda\, United States;X-APPLE-RADIUS=100;X-TITLE=Hurless Barton Park:ge
 o:0,0
END:VEVENT
BEGIN:VTIMEZONE
TZID:America/Los_Angeles
X-LIC-LOCATION:America/Los_Angeles
BEGIN:DAYLIGHT
DTSTART:20250309T030000
TZOFFSETFROM:-0800
TZOFFSETTO:-0700
TZNAME:PDT
END:DAYLIGHT
END:VTIMEZONE
END:VCALENDAR