BEGIN:VCALENDAR
VERSION:2.0
PRODID:-//wp-events-plugin.com//7.2.3.1//EN
TZID:America/Los_Angeles
X-WR-TIMEZONE:America/Los_Angeles
BEGIN:VEVENT
UID:4006@parentingoc.guidoclients.com
DTSTART;TZID=America/Los_Angeles:20250704T120000
DTEND;TZID=America/Los_Angeles:20250704T213000
DTSTAMP:20250703T164152Z
URL:https://parentingoc.guidoclients.com/events/fourth-of-july-street-fair
 e-fireworks-spectacular-2/
SUMMARY:Fourth of July Street Faire & Fireworks Spectacular
DESCRIPTION:Mission Viejo’s annual Street Faire\, on Olympiad Road betwee
 n Marguerite and Melinda\, delivers live entertainment along with a Fun Zo
 ne (with games booths and rides for youngsters). It also comes packed with
  food vendors and retail booths. Stick around for the fabulous fireworks s
 how that lights up the skies over Lake Mission Viejo at 9 pm. Free shuttle
  service operates throughout the city from 1 pm-8 pm.\n\nhttps://mvactivit
 ies.com/all-mvac-events/july-4th/ 
ATTACH;FMTTYPE=image/jpeg:https://parentingoc.guidoclients.com/wp-content/
 uploads/2025/06/Fourth-of-July-Street-Faire-Fireworks-Spectacular_courtesy
 -Mission-Viejo.jpg
CATEGORIES:4th Of July,Fairs &amp; Festivals,Food &amp;
 Drink,Holiday,Music, Theater &amp; Entertainment,Sports &amp; Games,Things
 To Do
LOCATION:Olympiad Road between Marguerite and Melinda\, Olympiad Road betwe
 en Marguerite and Melinda\, Mission Viejo\, United States
X-APPLE-STRUCTURED-LOCATION;VALUE=URI;X-ADDRESS=Olympiad Road between Margu
 erite and Melinda\, Mission Viejo\, United States;X-APPLE-RADIUS=100;X-TIT
 LE=Olympiad Road between Marguerite and Melinda:geo:0,0
END:VEVENT
BEGIN:VTIMEZONE
TZID:America/Los_Angeles
X-LIC-LOCATION:America/Los_Angeles
BEGIN:DAYLIGHT
DTSTART:20250309T030000
TZOFFSETFROM:-0800
TZOFFSETTO:-0700
TZNAME:PDT
END:DAYLIGHT
END:VTIMEZONE
END:VCALENDAR