BEGIN:VCALENDAR
VERSION:2.0
PRODID:-//wp-events-plugin.com//7.2.3.1//EN
TZID:America/Los_Angeles
X-WR-TIMEZONE:America/Los_Angeles
BEGIN:VEVENT
UID:4115@parentingoc.guidoclients.com
DTSTART;TZID=America/Los_Angeles:20250805T180000
DTEND;TZID=America/Los_Angeles:20250815T213000
DTSTAMP:20250715T195308Z
URL:https://parentingoc.guidoclients.com/events/fountain-valleys-movies-in
 -the-park-3/
SUMMARY:Fountain Valley’s Movies In The Park
DESCRIPTION:Fountain Valley is showing a pair of films this month in its Sp
 orts Park. Despicable Me 4 screens at dusk on August 5 as part of Fountain
  Valley’s National Night Out event. Expect a variety of special communit
 y activities starting at 6 pm involving the FV Police Department and other
  Emergency Services. Folks also can see Inside Out 2 on August 15 at dusk 
 (approximately 8 pm). Pre-show activities commence around 6 pm.  \n\nhtt
 ps://www.fountainvalley.gov/856/Special-Events
CATEGORIES:Music, Theater &amp; Entertainment,Sports &amp; Games
LOCATION:Fountain Valley Sports Park\, 16400 Brookhurst Street\, Fountain V
 alley\, CA\, United States
X-APPLE-STRUCTURED-LOCATION;VALUE=URI;X-ADDRESS=16400 Brookhurst Street\, F
 ountain Valley\, CA\, United States;X-APPLE-RADIUS=100;X-TITLE=Fountain Va
 lley Sports Park:geo:0,0
END:VEVENT
BEGIN:VTIMEZONE
TZID:America/Los_Angeles
X-LIC-LOCATION:America/Los_Angeles
BEGIN:DAYLIGHT
DTSTART:20250309T030000
TZOFFSETFROM:-0800
TZOFFSETTO:-0700
TZNAME:PDT
END:DAYLIGHT
END:VTIMEZONE
END:VCALENDAR