BEGIN:VCALENDAR
VERSION:2.0
PRODID:-//wp-events-plugin.com//7.2.3.1//EN
TZID:America/Los_Angeles
X-WR-TIMEZONE:America/Los_Angeles
BEGIN:VEVENT
UID:3379@parentingoc.guidoclients.com
DTSTART;TZID=America/Los_Angeles:20241214T200000
DTEND;TZID=America/Los_Angeles:20241214T223000
DTSTAMP:20241121T203038Z
URL:https://parentingoc.guidoclients.com/events/fiesta-navidad-2/
SUMMARY:Fiesta Navidad
DESCRIPTION:An Orange County favorite during this time of year\, Fiesta Nav
 idad returns to the Segerstrom Concert Hall on December 14. The Grammy Awa
 rd-winning group Mariachi Los Camperos headline this concert\, which is fi
 lled with festive music and dance performances that joyfully honor Mexican
  holiday traditions. Go to https://www.scfta.org/events/2024/fiesta-navida
 d/ to get tickets for this show. \n
ATTACH;FMTTYPE=image/jpeg:https://parentingoc.guidoclients.com/wp-content/
 uploads/2024/11/fiesta-navidad_courtesy-Segerstrom-Center.web_.2.jpg
CATEGORIES:Christmas,Music, Theater &amp; Entertainment
LOCATION:600 Town Center Drive\, 600 Town Center Drive\, Costa Mesa\, Unite
 d States
X-APPLE-STRUCTURED-LOCATION;VALUE=URI;X-ADDRESS=600 Town Center Drive\, Cos
 ta Mesa\, United States;X-APPLE-RADIUS=100;X-TITLE=600 Town Center Drive:g
 eo:0,0
END:VEVENT
BEGIN:VTIMEZONE
TZID:America/Los_Angeles
X-LIC-LOCATION:America/Los_Angeles
BEGIN:STANDARD
DTSTART:20241103T010000
TZOFFSETFROM:-0700
TZOFFSETTO:-0800
TZNAME:PST
END:STANDARD
END:VTIMEZONE
END:VCALENDAR