BEGIN:VCALENDAR
VERSION:2.0
PRODID:-//wp-events-plugin.com//7.2.3.1//EN
TZID:America/Los_Angeles
X-WR-TIMEZONE:America/Los_Angeles
BEGIN:VEVENT
UID:4073@parentingoc.guidoclients.com
DTSTART;TZID=America/Los_Angeles:20250801T160000
DTEND;TZID=America/Los_Angeles:20250829T233000
DTSTAMP:20250806T200053Z
URL:https://parentingoc.guidoclients.com/events/festival-of-arts-5/
SUMMARY:Festival of Arts
DESCRIPTION:Laguna Beach’s world-renowned juried fine art exhibit showcas
 es the work of talented Orange County artists as well as offering classes 
 (for kids and adults)\, a lineup of live entertainment\, hands-on activiti
 es\, and demonstrations. Check http://www.lagunafestivalofarts.org/ for de
 tails. Parents should note that July 13 is Family Arts Day\, which offers 
 ocean-themed art projects\, live performances\, and special guests. FoA ho
 urs are 4 pm-11:30 pm Mondays-Thursdays and 11 am-11:30 pm Fridays-Sundays
  from July 2-August 29.\n\nhttp://www.lagunafestivalofarts.org/
ATTACH;FMTTYPE=image/jpeg:https://parentingoc.guidoclients.com/wp-content/
 uploads/2025/07/Festival-of-Art_courtesy-Festival-of-Art_05.jpg
CATEGORIES:Arts &amp; Crafts,Fairs &amp; Festivals,Featured,Museums &amp;
 Art,Music, Theater &amp; Entertainment,Things To Do
LOCATION:Laguna Beach\, 650 Laguna Canyon Road\, Laguna Beach \, United Sta
 tes
X-APPLE-STRUCTURED-LOCATION;VALUE=URI;X-ADDRESS=650 Laguna Canyon Road\, La
 guna Beach \, United States;X-APPLE-RADIUS=100;X-TITLE=Laguna Beach:geo:0,
 0
END:VEVENT
BEGIN:VTIMEZONE
TZID:America/Los_Angeles
X-LIC-LOCATION:America/Los_Angeles
BEGIN:DAYLIGHT
DTSTART:20250309T030000
TZOFFSETFROM:-0800
TZOFFSETTO:-0700
TZNAME:PDT
END:DAYLIGHT
END:VTIMEZONE
END:VCALENDAR