BEGIN:VCALENDAR
VERSION:2.0
PRODID:-//wp-events-plugin.com//7.2.3.1//EN
TZID:America/Los_Angeles
X-WR-TIMEZONE:America/Los_Angeles
BEGIN:VEVENT
UID:2729@parentingoc.guidoclients.com
DTSTART;TZID=America/Los_Angeles:20240703T160000
DTEND;TZID=America/Los_Angeles:20240731T233000
DTSTAMP:20240705T152352Z
URL:https://parentingoc.guidoclients.com/events/festival-of-arts-3/
SUMMARY:Festival of Arts
DESCRIPTION:This world-renowned Laguna Beach juried fine art exhibit showca
 ses the work of talented Orange County artists as well as offering classes
  (for kids and adults)\, live performances\, demonstrations\, and artist m
 eet-and-greets. Plus\, July 14 is the always-popular Family Arts Day. FoA 
 hours are 4 pm-11:30 pm Mondays-Thursdays and 10 am-11:30 pm Fridays-Sunda
 ys July 3-August 30. The Festival also hosts the unique Pageant of the Mas
 ters theatrical experience\, which is staged at 8:30 pm July 6-August 30.\
 n\nhttp://www.lagunafestivalofarts.org/\n\n&nbsp\;
ATTACH;FMTTYPE=image/jpeg:https://parentingoc.guidoclients.com/wp-content/
 uploads/2024/07/Family-Art-Day_courtesy-Festival-of-Art.jpg
CATEGORIES:Arts &amp; Crafts,Fairs &amp; Festivals,Museums &amp; Art
LOCATION:Laguna Beach\, 650 Laguna Canyon Road\, Laguna Beach \, United Sta
 tes
X-APPLE-STRUCTURED-LOCATION;VALUE=URI;X-ADDRESS=650 Laguna Canyon Road\, La
 guna Beach \, United States;X-APPLE-RADIUS=100;X-TITLE=Laguna Beach:geo:0,
 0
END:VEVENT
BEGIN:VTIMEZONE
TZID:America/Los_Angeles
X-LIC-LOCATION:America/Los_Angeles
BEGIN:DAYLIGHT
DTSTART:20240310T030000
TZOFFSETFROM:-0800
TZOFFSETTO:-0700
TZNAME:PDT
END:DAYLIGHT
END:VTIMEZONE
END:VCALENDAR