BEGIN:VCALENDAR
VERSION:2.0
PRODID:-//wp-events-plugin.com//7.2.3.1//EN
TZID:America/Los_Angeles
X-WR-TIMEZONE:America/Los_Angeles
BEGIN:VEVENT
UID:4154@parentingoc.guidoclients.com
DTSTART;TZID=America/Los_Angeles:20251012T100000
DTEND;TZID=America/Los_Angeles:20251012T150000
DTSTAMP:20251003T174613Z
URL:https://parentingoc.guidoclients.com/events/encs-50th-annual-fall-fair
 e/
SUMMARY:ENC’s 50th Annual Fall Faire
DESCRIPTION:A visit to The Environmental Nature Center on October 12 delive
 rs an opportunity to celebrate autumn through various activities that conn
 ect people with nature. Between 10 am-3 pm\, guests can get creative with 
 imaginative nature-inspired crafts\, play family-friendly interactive game
 s\, and enjoy live entertainment. The Faire\, which serves as ENC’s bigg
 est fundraiser\, strives to be a Zero Waste event\, also contains a pumpki
 n patch. \n\nhttps://encenter.org/visit-us/fall-faire/
CATEGORIES:Arts &amp; Crafts,Fairs &amp; Festivals,Kids,Music, Theater
 &amp; Entertainment,Sports &amp; Games
LOCATION:The Environmental Nature Center\, 1601 E. 16th Street\, Newport Be
 ach\, United States
X-APPLE-STRUCTURED-LOCATION;VALUE=URI;X-ADDRESS=1601 E. 16th Street\, Newpo
 rt Beach\, United States;X-APPLE-RADIUS=100;X-TITLE=The Environmental Natu
 re Center:geo:0,0
END:VEVENT
BEGIN:VTIMEZONE
TZID:America/Los_Angeles
X-LIC-LOCATION:America/Los_Angeles
BEGIN:DAYLIGHT
DTSTART:20250309T030000
TZOFFSETFROM:-0800
TZOFFSETTO:-0700
TZNAME:PDT
END:DAYLIGHT
END:VTIMEZONE
END:VCALENDAR