BEGIN:VCALENDAR
VERSION:2.0
PRODID:-//wp-events-plugin.com//7.2.3.1//EN
TZID:America/Los_Angeles
X-WR-TIMEZONE:America/Los_Angeles
BEGIN:VEVENT
UID:3745@parentingoc.guidoclients.com
DTSTART;TZID=America/Los_Angeles:20250329T100000
DTEND;TZID=America/Los_Angeles:20250406T180000
DTSTAMP:20250402T184804Z
URL:https://parentingoc.guidoclients.com/events/elmos-eggstravaganza-2/
SUMMARY:Elmo's Eggstravaganza
DESCRIPTION:Sesame Place has something egg-cellent planned for the spring. 
 The park’s Eggstravaganza overflows with fun – from a Golden Egg Hunt 
 to a Bunny Hop Dance Party + Games. There’ll also be an Easter Egg Scave
 nger Hunt and Easter Storytimes as well as photos with the Easter Bunny an
 d other Furry Friends. The special event happens March 22-23\, 29-31 and A
 pril 1-6\, 12-20. By the way\, April ends with additional Elmo excitement:
  Elmo’s Springtacular debuts April 26-27.\n\nhttps://sesameplace.com/san
 -diego/events/elmos-eggstravaganza/\n\n&nbsp\;
ATTACH;FMTTYPE=image/jpeg:https://parentingoc.guidoclients.com/wp-content/
 uploads/2025/03/gQmxGfOA.jpg
CATEGORIES:Amusement Parks,Holiday,Outdoors &amp; Animals
LOCATION:2052 Entertainment Circle\, 2052 Entertainment Circle\, Chula Vist
 a\, United States
X-APPLE-STRUCTURED-LOCATION;VALUE=URI;X-ADDRESS=2052 Entertainment Circle\,
  Chula Vista\, United States;X-APPLE-RADIUS=100;X-TITLE=2052 Entertainment
  Circle:geo:0,0
END:VEVENT
BEGIN:VTIMEZONE
TZID:America/Los_Angeles
X-LIC-LOCATION:America/Los_Angeles
BEGIN:DAYLIGHT
DTSTART:20250309T030000
TZOFFSETFROM:-0800
TZOFFSETTO:-0700
TZNAME:PDT
END:DAYLIGHT
END:VTIMEZONE
END:VCALENDAR