BEGIN:VCALENDAR
VERSION:2.0
PRODID:-//wp-events-plugin.com//7.2.3.1//EN
TZID:America/Los_Angeles
X-WR-TIMEZONE:America/Los_Angeles
BEGIN:VEVENT
UID:3998@parentingoc.guidoclients.com
DTSTART;TZID=America/Los_Angeles:20250621T090000
DTEND;TZID=America/Los_Angeles:20250622T170000
DTSTAMP:20250618T210757Z
URL:https://parentingoc.guidoclients.com/events/doheny-surf-and-art-festiv
 al-3/
SUMMARY:Doheny Surf and Art Festival
DESCRIPTION:Be prepared to have Doho-style fun when you attend this annual 
 free event that celebrates the area’s historic surf culture and coastal 
 beauty. Hosted by Doheny State Beach Foundation and California State Parks
 \, the festival offers surfing contests along with art and surf booths. Ta
 king place on June 21-22 (9 am-5 pm)\, the weekend also holds live music a
 nd dance contests and various family-oriented activities. \n\nhttps://www
 .dohenystatebeach.org/doheny-surf-festival/
ATTACH;FMTTYPE=image/jpeg:https://parentingoc.guidoclients.com/wp-content/
 uploads/2025/06/Doheny-Surf-and-Art-Festival_courtesy-Doheny-State-Beach-F
 oundation.web_-scaled.jpg
CATEGORIES:Museums &amp; Art,Music, Theater &amp; Entertainment,Outdoors
 &amp; Animals,Sports &amp; Games,Things To Do
LOCATION:25300 Dana Point Harbor Dr.\, 25300 Dana Point Harbor Dr. \, Dana 
 Point\, United States
X-APPLE-STRUCTURED-LOCATION;VALUE=URI;X-ADDRESS=25300 Dana Point Harbor Dr.
  \, Dana Point\, United States;X-APPLE-RADIUS=100;X-TITLE=25300 Dana Point
  Harbor Dr.:geo:0,0
END:VEVENT
BEGIN:VTIMEZONE
TZID:America/Los_Angeles
X-LIC-LOCATION:America/Los_Angeles
BEGIN:DAYLIGHT
DTSTART:20250309T030000
TZOFFSETFROM:-0800
TZOFFSETTO:-0700
TZNAME:PDT
END:DAYLIGHT
END:VTIMEZONE
END:VCALENDAR