BEGIN:VCALENDAR
VERSION:2.0
PRODID:-//wp-events-plugin.com//7.2.3.1//EN
TZID:America/Los_Angeles
X-WR-TIMEZONE:America/Los_Angeles
BEGIN:VEVENT
UID:4095@parentingoc.guidoclients.com
DTSTART;TZID=America/Los_Angeles:20250814T193000
DTEND;TZID=America/Los_Angeles:20250814T220000
DTSTAMP:20250715T185220Z
URL:https://parentingoc.guidoclients.com/events/dive-in-movies-in-buena-pa
 rk/
SUMMARY:Dive-In Movies In Buena Park
DESCRIPTION:Buena Park has a real treat for those who like to make a splash
  going to see a film. The city is presenting water-related movies at its P
 eak Park Pool\; Lilo &amp\; Stitch on July 10 and Finding Nemo on August 1
 4. The pool opens at 7:30 pm with the movies beginning at 8:30 pm. There i
 s a nominal fee for this event. Call 714-562-3860 to get additional detail
 s.\n\nhttps://www.buenapark.com/city_departments/community_services/specia
 l_events.php
CATEGORIES:Music, Theater &amp; Entertainment,Outdoors &amp; Animals
LOCATION:Peak Park Pool\, 7225 El Dorado Drive\, Buena Park \, United Stat
 es
X-APPLE-STRUCTURED-LOCATION;VALUE=URI;X-ADDRESS=7225 El Dorado Drive\, Buen
 a Park \, United States;X-APPLE-RADIUS=100;X-TITLE=Peak Park Pool:geo:0,0
END:VEVENT
BEGIN:VTIMEZONE
TZID:America/Los_Angeles
X-LIC-LOCATION:America/Los_Angeles
BEGIN:DAYLIGHT
DTSTART:20250309T030000
TZOFFSETFROM:-0800
TZOFFSETTO:-0700
TZNAME:PDT
END:DAYLIGHT
END:VTIMEZONE
END:VCALENDAR