BEGIN:VCALENDAR
VERSION:2.0
PRODID:-//wp-events-plugin.com//7.2.3.1//EN
TZID:America/Los_Angeles
X-WR-TIMEZONE:America/Los_Angeles
BEGIN:VEVENT
UID:3789@parentingoc.guidoclients.com
DTSTART;TZID=America/Los_Angeles:20250424T190000
DTEND;TZID=America/Los_Angeles:20250427T190000
DTSTAMP:20250320T214052Z
URL:https://parentingoc.guidoclients.com/events/disney-on-ice-presents-int
 o-the-magic-2/
SUMMARY:Disney On Ice presents Into the Magic
DESCRIPTION:In Disney On Ice’s latest production\, Mickey &amp\; Minnie M
 ouse takes audiences on an expedition across snow covered mountains\, ragi
 ng seas\, and the marigold bridge in an exciting performance featuring cha
 racters from Moana\, Frozen\, Coco and Beauty and the Beast and the Disney
  universe. The skating spectacular visits Long Beach Arena April 17-20 and
  Ontario’s Toyota Arena April 24-27.\n\n Visit www.disneyonice.com for s
 how times and ticket details. 
ATTACH;FMTTYPE=image/jpeg:https://parentingoc.guidoclients.com/wp-content/
 uploads/2025/03/Disney-On-Ice-presents-Into-the-Magic_courtesy-Disney-On-I
 ce.jpg
CATEGORIES:Music, Theater &amp; Entertainment
LOCATION:Toyota Arena\, 4000 Ontario Center Pkwy\, Ontario\, United States
X-APPLE-STRUCTURED-LOCATION;VALUE=URI;X-ADDRESS=4000 Ontario Center Pkwy\, 
 Ontario\, United States;X-APPLE-RADIUS=100;X-TITLE=Toyota Arena:geo:0,0
END:VEVENT
BEGIN:VTIMEZONE
TZID:America/Los_Angeles
X-LIC-LOCATION:America/Los_Angeles
BEGIN:DAYLIGHT
DTSTART:20250309T030000
TZOFFSETFROM:-0800
TZOFFSETTO:-0700
TZNAME:PDT
END:DAYLIGHT
END:VTIMEZONE
END:VCALENDAR