BEGIN:VCALENDAR
VERSION:2.0
PRODID:-//wp-events-plugin.com//7.2.3.1//EN
TZID:America/Los_Angeles
X-WR-TIMEZONE:America/Los_Angeles
BEGIN:VEVENT
UID:4124@parentingoc.guidoclients.com
DTSTART;TZID=America/Los_Angeles;VALUE=DATE:20250808
DTEND;TZID=America/Los_Angeles;VALUE=DATE:20250811
DTSTAMP:20250715T203911Z
URL:https://parentingoc.guidoclients.com/events/disney-jr-lets-play/
SUMMARY:Disney Jr. Let’s Play!
DESCRIPTION:Preschoolers and their families can have an extra playful time 
 at the Disneyland resorts in August. On the 8th\, California Adventure has
  a Disney Jr. Let’s Play day\, featuring a block party\, a Let’s Play 
 Live! Show\, a Superkitties performance\, and special characters meet-ups 
 and photo ops. The party shifts to the Downtown Disney District on August 
 9-10 with dance parties\, craft activities\, bubble experiences\, and more
  photo opportunities. Park hours are 8 am-12 am.  \n\nhttps://disneyland
 .disney.go.com/events-tours/disney-jr-lets-play/?CMP=ILC-DPFY25Q3wo0612250
 040G
ATTACH;FMTTYPE=image/jpeg:https://parentingoc.guidoclients.com/wp-content/
 uploads/2025/07/Disney-Jr.-Lets-Play_courtesy-Disneyland-Resorts.web_.3.jp
 g
CATEGORIES:Amusement Parks,Arts &amp; Crafts,Babies &amp; Toddlers,Food
 &amp; Drink,Kids,Sports &amp; Games
LOCATION:Disneyland Resort\, 1313 Disneyland Dr\, Anaheim\, United States
X-APPLE-STRUCTURED-LOCATION;VALUE=URI;X-ADDRESS=1313 Disneyland Dr\, Anahei
 m\, United States;X-APPLE-RADIUS=100;X-TITLE=Disneyland Resort:geo:0,0
END:VEVENT
BEGIN:VTIMEZONE
TZID:America/Los_Angeles
X-LIC-LOCATION:America/Los_Angeles
BEGIN:DAYLIGHT
DTSTART:20250309T030000
TZOFFSETFROM:-0800
TZOFFSETTO:-0700
TZNAME:PDT
END:DAYLIGHT
END:VTIMEZONE
END:VCALENDAR