BEGIN:VCALENDAR
VERSION:2.0
PRODID:-//wp-events-plugin.com//7.2.3.1//EN
TZID:America/Los_Angeles
X-WR-TIMEZONE:America/Los_Angeles
BEGIN:VEVENT
UID:3623@parentingoc.guidoclients.com
DTSTART;TZID=America/Los_Angeles:20250306T080000
DTEND;TZID=America/Los_Angeles:20250331T210000
DTSTAMP:20250326T220743Z
URL:https://parentingoc.guidoclients.com/events/disney-california-adventur
 e-food-wine-festival-7/
SUMMARY:Disney California Adventure Food & Wine Festival
DESCRIPTION:California Adventure once again dishes up this delicious foodie
  adventure that comes stocked with a selection of specialty marketplaces\,
  cooking demonstrations (several past demos have been geared for children)
 \, and family-friendly entertainment. One fest highlight is the chance to 
 meet Chef Goofy. Another is the limited time return of Soarin’ Over Cali
 fornia experience during the run of the festival\, which ends April 21.\n\
 nhttps://disneyland.disney.go.com/events-tours/disney-california-adventure
 /food-and-wine-festival/\n\n&nbsp\;
ATTACH;FMTTYPE=image/jpeg:https://parentingoc.guidoclients.com/wp-content/
 uploads/2025/02/Xs64Nmuw.jpg
CATEGORIES:Amusement Parks,Fairs &amp; Festivals,Featured,Food &amp; Drink
LOCATION:Disneyland Resort\, 1313 Disneyland Dr\, Anaheim\, United States
X-APPLE-STRUCTURED-LOCATION;VALUE=URI;X-ADDRESS=1313 Disneyland Dr\, Anahei
 m\, United States;X-APPLE-RADIUS=100;X-TITLE=Disneyland Resort:geo:0,0
END:VEVENT
BEGIN:VTIMEZONE
TZID:America/Los_Angeles
X-LIC-LOCATION:America/Los_Angeles
BEGIN:STANDARD
DTSTART:20241103T010000
TZOFFSETFROM:-0700
TZOFFSETTO:-0800
TZNAME:PST
END:STANDARD
BEGIN:DAYLIGHT
DTSTART:20250309T030000
TZOFFSETFROM:-0800
TZOFFSETTO:-0700
TZNAME:PDT
END:DAYLIGHT
END:VTIMEZONE
END:VCALENDAR