BEGIN:VCALENDAR
VERSION:2.0
PRODID:-//wp-events-plugin.com//7.2.3.1//EN
TZID:America/Los_Angeles
X-WR-TIMEZONE:America/Los_Angeles
BEGIN:VEVENT
UID:3576@parentingoc.guidoclients.com
DTSTART;TZID=America/Los_Angeles:20250228T080000
DTEND;TZID=America/Los_Angeles:20250228T210000
DTSTAMP:20250208T011702Z
URL:https://parentingoc.guidoclients.com/events/disney-california-adventur
 e-food-wine-festival-4/
SUMMARY:Disney California Adventure Food & Wine Festival
DESCRIPTION:Starting February 28\, California Adventure once again dishes u
 p this delicious foodie adventure that comes stocked with a selection of s
 pecialty marketplaces\, cooking demonstrations (several past demos have be
 en geared for children)\, and family-friendly entertainment. One fest high
 light is the chance to meet Chef Goofy. Another is the limited-time return
  of Soarin’ Over California experience during the run of the festival\, 
 which ends April 21.\n\nhttps://disneyland.disney.go.com/events-tours/disn
 ey-california-adventure/food-and-wine-festival/
ATTACH;FMTTYPE=image/jpeg:https://parentingoc.guidoclients.com/wp-content/
 uploads/2025/01/Disney-California-Adventure-Food-Wine-Festival_courtesy-Di
 sneyland-Resorts.2.jpg
CATEGORIES:Amusement Parks,Featured,Food &amp; Drink,Things To Do
LOCATION:1313 Disneyland Dr\, 1313 Disneyland Dr\, Anaheim\, United States
X-APPLE-STRUCTURED-LOCATION;VALUE=URI;X-ADDRESS=1313 Disneyland Dr\, Anahei
 m\, United States;X-APPLE-RADIUS=100;X-TITLE=1313 Disneyland Dr:geo:0,0
END:VEVENT
BEGIN:VTIMEZONE
TZID:America/Los_Angeles
X-LIC-LOCATION:America/Los_Angeles
BEGIN:STANDARD
DTSTART:20241103T010000
TZOFFSETFROM:-0700
TZOFFSETTO:-0800
TZNAME:PST
END:STANDARD
END:VTIMEZONE
END:VCALENDAR