BEGIN:VCALENDAR
VERSION:2.0
PRODID:-//wp-events-plugin.com//7.2.3.1//EN
TZID:America/Los_Angeles
X-WR-TIMEZONE:America/Los_Angeles
BEGIN:VEVENT
UID:4176@parentingoc.guidoclients.com
DTSTART;TZID=America/Los_Angeles:20251004T100000
DTEND;TZID=America/Los_Angeles:20251026T190000
DTSTAMP:20251003T184759Z
URL:https://parentingoc.guidoclients.com/events/discovery-cube-pumpkin-pal
 ooza-4/
SUMMARY:Discovery Cube Pumpkin Palooza
DESCRIPTION:Pumpkin Mania pops up again at the Discovery Cube\, featuring a
  special dance party and festival. Jack-o-Lynn returns to host the dance p
 arty\, spinning a mix of today’s hit dance tracks along with many Hallow
 een favorites. The festival\, meanwhile\, will offer seasonal activities\,
  spooky science projects\, and an all-new interactive science maze. This P
 alooza occurs October 4-5\, 11-12\, 18-19\, 25-26 from 10 am-7 pm. Visit h
 ttps://www.discoverycube.org/orange-county/events/pumpkin-palooza/ for add
 itional details and reservations. \n\nhttps://www.discoverycube.org/orang
 e-county/events/pumpkin-palooza/\n\n 
CATEGORIES:Education &amp; Workshops,Fairs &amp;
 Festivals,Halloween,Kids,Music, Theater &amp; Entertainment
END:VEVENT
BEGIN:VTIMEZONE
TZID:America/Los_Angeles
X-LIC-LOCATION:America/Los_Angeles
BEGIN:DAYLIGHT
DTSTART:20250309T030000
TZOFFSETFROM:-0800
TZOFFSETTO:-0700
TZNAME:PDT
END:DAYLIGHT
END:VTIMEZONE
END:VCALENDAR