BEGIN:VCALENDAR
VERSION:2.0
PRODID:-//wp-events-plugin.com//7.2.3.1//EN
TZID:America/Los_Angeles
X-WR-TIMEZONE:America/Los_Angeles
BEGIN:VEVENT
UID:4169@parentingoc.guidoclients.com
DTSTART;TZID=America/Los_Angeles:20251026T110000
DTEND;TZID=America/Los_Angeles:20251026T150000
DTSTAMP:20251003T182745Z
URL:https://parentingoc.guidoclients.com/events/dia-de-los-muertos-festiva
 l-at-the-muck/
SUMMARY:Día de Los Muertos Festival at the Muck
DESCRIPTION:Join the Muck in honoring Día de Los Muertos with a special fr
 ee celebration that will be held on October 26. Taking place on the Cultur
 al Center’s grounds from 11 am-3 pm\, the event offers a range of family
 -friendly activities\, including arts &amp\; Crafts for the kids. The day 
 also holds live music\, food vendors\, and local artisans. \n\nhttps://th
 emuck.org/program/2024-10-27\n\n&nbsp\;
CATEGORIES:Arts &amp; Crafts,Fairs &amp; Festivals,Food &amp;
 Drink,Free,Kids,Music, Theater &amp; Entertainment
LOCATION:The Muckenthaler Cultural Center\, 1201 W. Malvern Avenue \, Fulle
 rton\, CA\, United States
X-APPLE-STRUCTURED-LOCATION;VALUE=URI;X-ADDRESS=1201 W. Malvern Avenue \, F
 ullerton\, CA\, United States;X-APPLE-RADIUS=100;X-TITLE=The Muckenthaler 
 Cultural Center:geo:0,0
END:VEVENT
BEGIN:VTIMEZONE
TZID:America/Los_Angeles
X-LIC-LOCATION:America/Los_Angeles
BEGIN:DAYLIGHT
DTSTART:20250309T030000
TZOFFSETFROM:-0800
TZOFFSETTO:-0700
TZNAME:PDT
END:DAYLIGHT
END:VTIMEZONE
END:VCALENDAR