BEGIN:VCALENDAR
VERSION:2.0
PRODID:-//wp-events-plugin.com//7.2.3.1//EN
TZID:America/Los_Angeles
X-WR-TIMEZONE:America/Los_Angeles
BEGIN:VEVENT
UID:3336@parentingoc.guidoclients.com
DTSTART;TZID=America/Los_Angeles:20241103T100000
DTEND;TZID=America/Los_Angeles:20241103T140000
DTSTAMP:20241029T201240Z
URL:https://parentingoc.guidoclients.com/events/d-yoder/
SUMMARY:D. Yoder
DESCRIPTION:https://www.casaromantica.org/events\nNovember 3 contains a Fal
 l Harvest Festival at the D. Yoder Family Sunday (10 am-2 pm). Live music 
 by the Sweet Water Creek Band\, an apple painting activity\, and a pumpkin
  scavenger hunt are among the highlights. RSVP at\nhttps://casaromantica.a
 pp.neoncrm.com/nx/portal/neonevents/events#/events/6305\nFlower Songs Musi
 c share indigenous culture\, history\, instruments\, and songs in English\
 , Spanish\, and indigenous languages at their special performance November
  9 (10:30 am-11:30 am) that’s recommended for ages 8 and younger. RSVP a
 t\nhttps://casaromantica.app.neoncrm.com/nx/portal/neonevents/events#/even
 ts/6372 
ATTACH;FMTTYPE=image/jpeg:https://parentingoc.guidoclients.com/wp-content/
 uploads/2024/10/Casa-Romantica-Family-Programs_Flower-Songs-Music_courtesy
 -Casa-Romantica.web_.jpeg
LOCATION:Casa Romantica\, 415 Avenida Granada\, San Clemente\, United State
 s
X-APPLE-STRUCTURED-LOCATION;VALUE=URI;X-ADDRESS=415 Avenida Granada\, San C
 lemente\, United States;X-APPLE-RADIUS=100;X-TITLE=Casa Romantica:geo:0,0
END:VEVENT
BEGIN:VTIMEZONE
TZID:America/Los_Angeles
X-LIC-LOCATION:America/Los_Angeles
BEGIN:STANDARD
DTSTART:20241103T010000
TZOFFSETFROM:-0700
TZOFFSETTO:-0800
TZNAME:PST
END:STANDARD
END:VTIMEZONE
END:VCALENDAR