BEGIN:VCALENDAR
VERSION:2.0
PRODID:-//wp-events-plugin.com//7.2.3.1//EN
TZID:America/Los_Angeles
X-WR-TIMEZONE:America/Los_Angeles
BEGIN:VEVENT
UID:4019@parentingoc.guidoclients.com
DTSTART;TZID=America/Los_Angeles:20250710T183000
DTEND;TZID=America/Los_Angeles:20250731T203000
DTSTAMP:20250708T175421Z
URL:https://parentingoc.guidoclients.com/events/concerts-in-tri-city-park/
SUMMARY:Concerts In Tri-City Park
DESCRIPTION:Placentia presents a handful of free concerts in Tri-City Park 
 this summer. Soto Band lays down some Latin grooves on July 10 and\, on Ju
 ly 17\, it’s 80s night with Neon Nation. Bruno &amp\; The Hooligans play
  Bruno Mars tunes on July 24. Enjoy 50s &amp\; 60s pop with the Dreamboats
  (July 31) and Taylor Swift songs from the New Romantics on August 7. Show
 time is 6:30 pm\, and food trucks will be on site. \n\nhttps://www.placen
 tia.org
CATEGORIES:Food &amp; Drink,Free,Music, Theater &amp; Entertainment
LOCATION:Placentia park\, 2301 N Kraemer Blvd  \, Placentia\, United States
X-APPLE-STRUCTURED-LOCATION;VALUE=URI;X-ADDRESS=2301 N Kraemer Blvd  \, Pla
 centia\, United States;X-APPLE-RADIUS=100;X-TITLE=Placentia park:geo:0,0
END:VEVENT
BEGIN:VTIMEZONE
TZID:America/Los_Angeles
X-LIC-LOCATION:America/Los_Angeles
BEGIN:DAYLIGHT
DTSTART:20250309T030000
TZOFFSETFROM:-0800
TZOFFSETTO:-0700
TZNAME:PDT
END:DAYLIGHT
END:VTIMEZONE
END:VCALENDAR