BEGIN:VCALENDAR
VERSION:2.0
PRODID:-//wp-events-plugin.com//7.2.3.1//EN
TZID:America/Los_Angeles
X-WR-TIMEZONE:America/Los_Angeles
BEGIN:VEVENT
UID:4028@parentingoc.guidoclients.com
DTSTART;TZID=America/Los_Angeles:20250710T183000
DTEND;TZID=America/Los_Angeles:20250731T200000
DTSTAMP:20250708T181823Z
URL:https://parentingoc.guidoclients.com/events/concerts-in-la-palma-centr
 al-park/
SUMMARY:Concerts in La Palma Central Park
DESCRIPTION:Make sure you bring your dancing shoes for the Dance Dance Expl
 osion taking place July 10. On July 17\, you can revisit the top hits of t
 he 80s with the Radio Rebels\, while the Dirty Lowdown play hits from the 
 70s and 80s on July 24. July 31 offers a variety of popular tunes courtesy
  of the Suffragettes. These free concerts go from 6:30 pm-8 pm. \n\nhttps
 ://www.lapalmaca.gov/220/Concerts-in-the-Park
CATEGORIES:Free,Music, Theater &amp; Entertainment
LOCATION:La Palma Central Park\, 7821 Walker St.\, La Palma\, United States
X-APPLE-STRUCTURED-LOCATION;VALUE=URI;X-ADDRESS=7821 Walker St.\, La Palma\
 , United States;X-APPLE-RADIUS=100;X-TITLE=La Palma Central Park:geo:0,0
END:VEVENT
BEGIN:VTIMEZONE
TZID:America/Los_Angeles
X-LIC-LOCATION:America/Los_Angeles
BEGIN:DAYLIGHT
DTSTART:20250309T030000
TZOFFSETFROM:-0800
TZOFFSETTO:-0700
TZNAME:PDT
END:DAYLIGHT
END:VTIMEZONE
END:VCALENDAR