BEGIN:VCALENDAR
VERSION:2.0
PRODID:-//wp-events-plugin.com//7.2.3.1//EN
TZID:America/Los_Angeles
X-WR-TIMEZONE:America/Los_Angeles
BEGIN:VEVENT
UID:3404@parentingoc.guidoclients.com
DTSTART;TZID=America/Los_Angeles:20241204T163000
DTEND;TZID=America/Los_Angeles:20241204T180000
DTSTAMP:20241121T212124Z
URL:https://parentingoc.guidoclients.com/events/city-of-la-palmas-holiday-
 tree-lighting-ceremony/
SUMMARY:City of La Palma’s Holiday Tree Lighting Ceremony
DESCRIPTION:Now in its 38th year\, this city tradition will light up La Pal
 ma’s Central Park on December 4 with a memorable tree lighting. Santa’
 s Village opens up at 4:30 pm and there will be arts and crafts\, a letter
  to Santa station\, and performances by local students. Mr. and Mrs. Claus
  will arrive before the 5:30 pm tree lighting ceremony so families will ha
 ve an opportunity to visit with them.\n\nhttps://www.cityoflapalma.org/310
 /Holiday-Tree-Lighting-Ceremony
ATTACH;FMTTYPE=image/jpeg:https://parentingoc.guidoclients.com/wp-content/
 uploads/2024/11/City-of-La-Palmas-Holiday-Tree-Lighting-Ceremony_courtesy-
 La-Palma.jpg
CATEGORIES:Christmas,Music, Theater &amp; Entertainment
LOCATION:7821 Walker Street\, 7821 Walker Street\, La Palma\, United States
X-APPLE-STRUCTURED-LOCATION;VALUE=URI;X-ADDRESS=7821 Walker Street\, La Pal
 ma\, United States;X-APPLE-RADIUS=100;X-TITLE=7821 Walker Street:geo:0,0
END:VEVENT
BEGIN:VTIMEZONE
TZID:America/Los_Angeles
X-LIC-LOCATION:America/Los_Angeles
BEGIN:STANDARD
DTSTART:20241103T010000
TZOFFSETFROM:-0700
TZOFFSETTO:-0800
TZNAME:PST
END:STANDARD
END:VTIMEZONE
END:VCALENDAR