BEGIN:VCALENDAR
VERSION:2.0
PRODID:-//wp-events-plugin.com//7.2.3.1//EN
TZID:America/Los_Angeles
X-WR-TIMEZONE:America/Los_Angeles
BEGIN:VEVENT
UID:3527@parentingoc.guidoclients.com
DTSTART;TZID=America/Los_Angeles:20250111T100000
DTEND;TZID=America/Los_Angeles:20250111T120000
DTSTAMP:20250108T201757Z
URL:https://parentingoc.guidoclients.com/events/casa-romanticas-family-eve
 nts/
SUMMARY:Casa Romantica's Family Events
DESCRIPTION:https://www.casaromantica.org/events\n\n2025’s first D. Yoder
  Sunday Funday\, occurring on January 5 (10 am-2 pm)\, will mark the first
  public performance by Casa Romantica’s Youth Chamber Music Program. Vis
 it https://www.casaromantica.org/events/family-sundays-1224-257/ to RSVP. 
 On January 11\, the Casa hosts an Opening Reception (10 am-12 pm) for its 
 new exhibit\, “Brian’s Magnificent Garden.” Designed for all ages\, 
 this interactive exhibition spotlights the whimsical world of children’s
  author/illustrator\, Brian Lies. RSVP at https://casaromantica.app.neoncr
 m.com/nx/portal/neonevents/events?path=%2Fportal%2Fevents%2F10274. The exh
 ibit runs through March 9.
ATTACH;FMTTYPE=image/jpeg:https://parentingoc.guidoclients.com/wp-content/
 uploads/2025/01/3.png
CATEGORIES:Music, Theater &amp; Entertainment,Things To Do
LOCATION:Casa Romantica Cultural Center and Gardens\, 415 Avenida Granada\,
  San Clemente\, CA\, United States
X-APPLE-STRUCTURED-LOCATION;VALUE=URI;X-ADDRESS=415 Avenida Granada\, San C
 lemente\, CA\, United States;X-APPLE-RADIUS=100;X-TITLE=Casa Romantica Cul
 tural Center and Gardens:geo:0,0
END:VEVENT
BEGIN:VTIMEZONE
TZID:America/Los_Angeles
X-LIC-LOCATION:America/Los_Angeles
BEGIN:STANDARD
DTSTART:20241103T010000
TZOFFSETFROM:-0700
TZOFFSETTO:-0800
TZNAME:PST
END:STANDARD
END:VTIMEZONE
END:VCALENDAR